Workbook
Name BusinessCycle: ●ｼﾐｭﾚｰｼｮﾝ結果!$G$6:$Q$6
Name DInvestCalcRate: '<参考>●総コスト算出WS'!$E$8:$O$8
Name DpercentRate: ●ｼﾐｭﾚｰｼｮﾝ結果!$G$8:$Q$8
Name KInvestCalcRate: '<参考>●総コスト算出WS'!$E$7:$O$7
Name KpercentRate: ●ｼﾐｭﾚｰｼｮﾝ結果!$G$7:$Q$7

Sheet シート説明
D3: 建設業電子商取引導入支援 コストシミュレーション表
B8: ○入力
D9: 黄色枠内に入力します。ほぼ、この入力で十分です。
D10: 薄黄色枠内に入力します。より詳細に入力したい場合利用します。
D11: 白色枠内にも入力できます。
C12: シートには「保護」が掛かっており、変更できないようにしています。
B14: ○シート説明
C15: 基礎情報
D16: コストシミュレーションを行うに当たっての作業単金や郵送料などの基礎資料です。 自社の状況に近い値に変更してください。
C18: 現業務調査
D19: 第一回合同検討会で記入いただいた、「現業務調査シート」です。 現状の業務状況について調査します。
C21: 業務書類量調査
D22: 第一回合同検討会で記入いただいた、「業務書類量調査シート」です。 年間の購買見積回答や注文量などを調査します。
C24: 導入後効果予測
D25: 第二回合同検討会で記入いただいた、「導入後効果予測シート」です。 現業務調査で調査した項目に対して、どの程度作業量になるかを調査する項目です。
C27: 目標電子化率
D28: 第二回合同検討会で記入いただいた、「目標電子化率シート」です。 自社で何年後に電子化率をどの程度にまでにするか、目標を記入します。
C30: ●計算表
D31: 現業務調査で調査した項目と、承認処理や経費など、想定される作業を加味し、1業務辺りの作業時間、経費を計算します。想定量を事前に登録してありますが、相違している場合は想定量を変更してください。
C34: ●削減結果
D35: ●計算表で算出した作業時間、経費の結果と、導入後効果予測で調査した値を加味し、導入前後で、電子化率が100%となった場合に、1業務毎でどの程度削減できるかの結果を示しています。
C38: 投資情報
D39: ●ｼﾐｭﾚｰｼｮﾝ結果を出すにあたり、導入タイプ別で、自社の投資予想額を記入します。
C41: ●ｼﾐｭﾚｰｼｮﾝ結果
D42: 電子商取引導入タイプ別で、投資情報、削減結果、目標電子化率を元に投資対効果のグラフを表示します。
C44: <参考>●調査結果早見表
D45: 現業務調査、業務書類量調査、導入後効果予測、目標電子化率で入力した内容を一つのシートにまとめた表です。
C47: <参考>●現在の業務の総コスト
D48: ●計算表で算出した作業時間、経費の結果に、業務書類量調査で調査した値を加味し、年間のコストがどの程度を表示した表です。
C50: <参考>●総コスト算出WS
D51: ●ｼﾐｭﾚｰｼｮﾝ結果を出すに当たっての、計算表です。 P000

Sheet 基礎情報
B1: 建設業電子商取引導入支援事業
B2: コスト算出の為の基礎情報一覧
B4: 基礎情報 | F4: 作業単金 | J4: 3000 | N4: 円／時 | Q4: =J4/60 -> 50 | U4: 円／分 | X4: （人件費の時間単価：各社一律5,000円/H）
F5: 作業時間 | J5: 8 | N5: 時間／日
F6: 1ヶ月日数 | J6: 20 | N6: 人日 | Q6: （平日５日で４週間）
F7: 見積担当者 | J7: 0 | N7: 人 | Q7: 出来高担当者 | U7: 0 | Y7: 人 | AB7: （平均人数）
F8: 注文担当者 | J8: 2 | N8: 人 | Q8: 請求担当者 | U8: 0 | Y8: 人
F9: 交通費 | J9: 交通費 | M9: 0 | P9: 円 | Q9: 移動時間 | T9: 0 | W9: 分 | X9: （往復の平均料金／往復の平均時間：徒歩も含む）
F10: 通信費 | J10: ＦＡＸ代 | M10: 10 | P10: 円 | Q10: 電話代 | T10: 10 | W10: 円 | X10: （市内３分間 電話は１回あたり、FAXは5枚/分）
F11: 郵送費 | J11: 一般封筒 | M11: 105 | P11: 円 | Q11: 簡易書留 | T11: 0 | W11: 円 | X11: （１通当たりの料金：50gまでの料金）
F12: 複写費 | J12: 白黒 | M12: 2.6 | P12: 円 | Q12: (１枚当たりの料金：用紙サイズ(A4,B4,A3)に関係なし）
J13: カラー | M13: 24 | P13: 円 | Q13: (24円/枚：1～1000、22.9円/枚：1001～3000、19.4円/枚：3001～）
F14: スキャナ費 | J14: 白黒 | M14: 2.6 | P14: 円 | Q14: (複写費より想定）
J15: カラー | M15: 24 | P15: 円 | Q15: (複写費より想定）
F16: 委託保管 | J16: 保管費 | M16: 100 | P16: 円 | Q16: 配送料金 | T16: 1000 | W16: 円 | X16: (１段ボールあたりの月額費、保管場所までの輸送費）
B18: 以下、基準選定参考情報：
B19: 【国内郵便料金表】
B20: 種類 | I20: 内容 | P20: 重量 | T20: 料金
B21: 第一種郵便物（封書） | I21: 定形郵便物 | P21: 25gまで | T21: 80 | W21: 円
I22: 定形外郵便物 | P22: 50gまで | T22: 120 | W22: 円
B23: 郵便物 簡易書留 | I23: 定形郵便物 | P23: 25gまで | T23: 380 | W23: 円
I24: 定形外郵便物 | P24: 50gまで | T24: 420 | W24: 円
B25: ゆうメール 簡易書留 | I25: 定形郵便物 | P25: 25gまで | T25: 380 | W25: 円
I26: 定形外郵便物 | P26: 50gまで | T26: 420 | W26: 円
B27: ※上記料金は全国一律の料金
B29: 【宅配メール料金表】
B30: 種類 | I30: 形状 厚さ | R30: 重量 | V30: 料金
B31: クロネコメール便 佐川飛脚メール便など | I31: A4(角2封筒以内) 厚さ=1cmまで | V31: 80 | Y31: 円
I32: A4(角2封筒以内) 厚さ=2cmまで | R32: 300g以内 | V32: 160 | Y32: 円
I33: B4 厚さ=1cmまで
R34: 600g以内 | V34: 210 | Y34: 円
I35: B4 厚さ=2cmまで | V35: 240 | Y35: 円
R36: 1kg以内 | V36: 310 | Y36: 円
B37: ※上記料金は全国一律の料金
B38: ※取り扱いは、3辺合計70cm以内・最長辺40cm以内・厚さ2cm以内・重量１kg以内であること
B40: 外部委託保管 一例（紙媒体保管）
B41: 内容 | I41: 項目 | S41: 料金
B42: 120cm箱を想定（A4/A3ファイル10冊収納可） | I42: 保管料金(1箱、1ヶ月) | S42: 100 | V42: 円
I43: 荷受･払出･情報更新料(1回) | S43: 100 | V43: 円
I44: 配送料金 | S44: 1000 | V44: 円

Sheet 現業務調査
B1: 現業務調査シート（発注者）
B2: 御社の現在の状況に近い値を二重線の枠内に記載してください。 | AA2: 入力するセルです
B3: 黄色いセルは自動計算されますが、御社の実運用状況に近い値を上書きしていただいてもかまいません。 | AA3: 自動計算するセルです
B4: 購買見積
B6: 見積依頼の作成時間
B8: ■購買見積依頼（注文の見積収集をするための依頼）を作成する時間を調査する項目です。 依頼情報収集（内訳・設計図書の入手など）・依頼書作成・印刷・担当者捺印までに掛かる作業時間を分で表してください。 上司の承認待ち時間や、書類送付の配送時間は含まなくて結構です。
C11: 社内システム（積算・見積システムなど）で、直接見積依頼書を作成 | S11: 0 | U11: 分/1依頼 | Y11: 0
C12: 社内システム等の情報を元に、表計算ソフト等で見積依頼書を作成 | S12: 0 | U12: 分/1依頼 | Y12: 0
C13: 紙面や、社内システムの情報を紙へ転記をして見積依頼書を作成 | S13: 0 | U13: 分/1依頼 | Y13: 1
R14: 平均 | S14: =(S11*Y11)+(S12*Y12)+(S13*Y13) -> 0 | U14: 分/1依頼 | Y14: =SUM(Y11:Z13) -> 1 | AA14: ←合計が100%に
B15: 取引先への送付手段 | I15: 要素 | AA15: なるようにしてください。
B17: ■見積依頼書を取引先へ送付する手段の割合を調査する項目です。全体が100%となるよう入力してください。
C18: FAX | I18: 【印刷・捺印・コピー・送信・保管 ・・・など】 | Y18: 0
C19: 郵送（一般封筒） | I19: 【印刷・捺印・コピー・封書・配送・保管 ・・・など】 | Y19: 0
C20: 郵便（書留等） | I20: 【印刷・捺印・コピー・封書・配送・保管 ・・・など】 | Y20: 0
C21: 電子メール | I21: 【印刷・捺印・コピー・データ形式変換・暗号化・保管 ・・・など】 | Y21: 0
C22: 取引先へ持ち込み | I22: 【印刷・捺印・コピー・保管・交通費・移動時間 ・・・など】 | Y22: 0
C23: 取引先が持ち帰り | I23: 【印刷・捺印・コピー・保管 ・・・など】 | Y23: 0
C24: その他 | I24: ※ココに受け渡し方法を記入してください。 | Y24: 1
Y25: =SUM(Y18:Y24) -> 1 | AA25: ←合計が100%になるようにしてください。
B26: 書類枚数
B28: ■見積依頼書の書類枚数を調査する項目です。
C29: 鑑情報は、紙面にして平均何枚程度ありますか | Y29: 0 | AA29: 枚/1依頼
C30: 明細情報は、紙面にして平均何枚程度ありますか | Y30: 0 | AA30: 枚/1依頼
C31: その他、見積りに係わる設計図書等の書類枚数はどの程度ありますか | Y31: 0 | AA31: 枚/1依頼
C32: １見積依頼書あたりの平均明細行数はどの程度ありますか | Y32: 0 | AA32: 行/1依頼
B34: 書類保管
B36: ■見積依頼書の書類保管を調査する項目です。
C37: 見積依頼書は保管されていますか。また保管場所は何処ですか（捺印した紙）
C38: ※候補：[0=保管しない、1=作業所保管、2=本社、支店保管] | Y38: 0 | AA38: 数字で入力
B39: 相見積もりについて
B41: ■1つの注文で相見積を行う社数、比較時間、単価折衝にかける日数などを調査する項目です。
C42: 1件の見積もりを平均何社に提出しますか
C43: ※相見積りを行わない場合は”1社”としてください。 | Y43: 3 | AA43: 社/1件
C44: 1件あたりの見積比較にかける時間の平均は
C45: ※比較に係る全ての作業時間（比較・相談・承認など） | Y45: 0 | AA45: 分/1件
C46: 1件あたりの単価折衝ににかける時間の平均は
C47: ※折衝に係る全ての作業時間（電話等による価格交渉など）
C48: ※例）1日目に電話で20分交渉した、2日目に電話で15分交渉した場合→35分/1件となります。 | Y48: 0 | AA48: 分/1件
B50: 見積回答
...

Sheet 業務書類量調査
B1: 業務書類量調査シート（発注者）
B2: 御社の現在の状況に近い値を二重線の枠内に記載してください。 | AA2: 入力するセルです
B3: 黄色いセルは自動計算されますが、御社の実運用状況に近い値を上書きしていただいてもかまいません。 | AA3: 自動計算するセルです
B5: 調査対象範囲
B7: 書類量調査の対象範囲
B9: ■書類量調査の対象範囲を選択してください
C10: 書類量調査の対象範囲
C11: ※候補：[0=全社、1=部署・工種などの特定範囲]
C12: 対象範囲（ ） | Y12: 0 | AA12: 数字で入力
B14: 書類量調査
B16: 書類量調査
W18: 単位 | Z18: 計算式、備考
B19: 年間の注文は何件くらいありますか | T19: (ア) | U19: 2400 | W19: 件/年
B20: 年間の請求は何件くらいありますか | T20: (イ) | U20: 0 | W20: 件/年
C21: 上記の請求件数のうち、契約、契約外の割合を入力してください。 | T21: 契約 | U21: 0 | Z21: ※本書の「契約外」とは文房具・副資材購入など、契約書の取り交わしなく請求書を受け付けるような場合を指します
T22: 契約外 | U22: 0
B23: 1件の見積もりを平均何社に提出しますか | T23: (ウ) | U23: =現業務調査!Y43 -> 3 | W23: 社/1見積 | Z23: =現業務調査シートより抜粋
B25: 見積依頼件数 | U25: =U19*現業務調査!Y43 -> 7200 | W25: 件/年 | Z25: =(ア)年間契約件数×(ウ)相見積社数
B26: 見積回答件数 | U26: =$U$25 -> 7200 | W26: 件/年 | Z26: =(ア)年間契約件数×(ウ)相見積社数
B27: 確定注文件数 | U27: =$U$19 -> 2400 | W27: 件/年 | Z27: =(ア)年間契約件数
B28: 注文請書件数 | U28: =$U$27 -> 2400 | W28: 件/年 | Z28: =(ア)年間契約件数
B29: 出来高折衝 | U29: =$U$30 -> 0 | W29: 回/年 | Z29: =(イ)年間請求件数×請求の「契約」の割合
B30: 請求書件数（契約） | U30: =$U$20*U21 -> 0 | W30: 件/年 | Z30: =(イ)年間請求件数×請求の「契約」の割合
B31: 請求書件数（契約外） | U31: =$U$20*U22 -> 0 | W31: 件/年 | Z31: =(イ)年間請求件数×請求の「契約外」の割合
B33: 契約関連書類を保管するために年間で発生するダンボール数は？ | U33: 10 | W33: 箱/年

Sheet 導入後効果予測
B1: 導入後効果予測シート（発注者）
B2: 御社の現在の状況に近い値を二重線の枠内に記載してください。 | AA2: 入力するセルです
B3: 枠付きセルは、業務量調査シートの平均値、確認時間を抜粋しています。 | AA3: 業務量調査シートからの抜粋です
B5: 購買見積依頼
B7: 見積依頼の作成時間
C9: 電子商取引業務運用した場合、想定される見積作成時間はどのくらいですか | X9: 従来 | Y9: =現業務調査!S14 -> 0 | AA9: 分/1依頼 | AD9: 0 | AF9: 分程度/1依頼
B10: 相見積もりについて
C12: 電子商取引業務運用した場合、想定される見積比較にかける時間はどのくらいですか | X12: 従来 | Y12: =現業務調査!Y45 -> 0 | AA12: 分/1件 | AD12: 0 | AF12: 分程度/1件
B14: 契約（注文書・請書）
B16: 注文書の作成時間
C18: 電子商取引業務運用した場合、想定される注文書の作成時間はどのくらいですか | X18: 従来 | Y18: =現業務調査!S84 -> 30 | AA18: 分/1注文 | AD18: 15 | AF18: 分程度/1注文
B19: 注文請書情報の入力時間
C21: 電子商取引業務運用した場合、想定される請書情報の入力時間はどのくらいですか | X21: 従来 | Y21: =現業務調査!S121 -> 3 | AA21: 分/1注文 | AD21: 3 | AF21: 分程度/1注文
B23: 出来高折衝
B25: 出来高情報の入力時間
C27: 電子商取引業務運用した場合、想定される入力時間はどのくらいですか
D28: 初回の出来高情報の入力時間 | X28: 従来 | Y28: =現業務調査!T139 -> 0 | AA28: 分 | AD28: 0 | AF28: 分程度
D29: ２回目以降の出来高情報の入力時間 | X29: 従来 | Y29: 0 | AA29: 分 | AD29: 0 | AF29: 分程度
B31: 請求
B33: 請求情報の入力時間
C35: 電子商取引業務運用した場合、想定される請求情報の入力時間はどのくらいですか | X35: 従来 | Y35: =現業務調査!S155 -> 0 | AA35: 分/1請求 | AD35: 0 | AF35: 分程度/1請求

Sheet 目標電子化率
B1: 目標電子化率シート（発注者）
B2: 御社の現在の状況に近い値を二重線の枠内に記載してください。 | AA2: 入力するセルです
B3: 枠付きセルは情報転載や自動計算されますが、御社の実運用状況に近い値を上書きしていただいてもかまいません。 | AA3: 情報転載、自動計算するセルです
B5: 本シートに記入する項目は、目標電子化率の項目の入力だけでもかまいません。
B6: 目標となる電子化率の想定が難しい場合には、”参考：取引先企業の電子化率状況の算出”、”参考：主要取引先状況の算出”を入力して頂き、
B7: その状況を元に、目標の電子化率を設定してください。
B9: 目標電子化率
C11: 1 | E11: 年後の目標電子化率
D12: 目標企業数 | O12: 社 | Q12: 取引先・電子化率 | Y12: =IF(ISERROR(M12/$Y$31),0,M12/$Y$31) -> 0
D13: 購買見積～確定注文まで | M13: 0.2 | Q13: 電子契約件数 | Y13: =M13*$Y$43 -> 480 | AA13: 件/年
D14: 出来高報告～請求まで | M14: 0 | Q14: 電子契約件数 | Y14: =M14*$Y$43 -> 0 | AA14: 件/年
C16: 3 | E16: 年後の目標電子化率
D17: 目標企業数 | O17: 社 | Q17: 取引先・電子化率 | Y17: =IF(ISERROR(M17/$Y$31),0,M17/$Y$31) -> 0
D18: 購買見積～確定注文まで | M18: 0.4 | Q18: 電子契約件数 | Y18: =M18*$Y$43 -> 960 | AA18: 件/年
D19: 出来高報告～請求まで | M19: 0 | Q19: 電子契約件数 | Y19: =M19*$Y$43 -> 0 | AA19: 件/年
C21: 5 | E21: 年後の目標電子化率
D22: 目標企業数 | O22: 社 | Q22: 取引先・電子化率 | Y22: =IF(ISERROR(M22/$Y$31),0,M22/$Y$31) -> 0
D23: 購買見積～確定注文まで | M23: 0.6 | Q23: 電子契約件数 | Y23: =M23*$Y$43 -> 1440 | AA23: 件/年
D24: 出来高報告～請求まで | M24: 0 | Q24: 電子契約件数 | Y24: =M24*$Y$43 -> 0 | AA24: 件/年
B26: 参考：取引先企業の電子化率状況の算出
B28: 電子化率の状況
B30: ■目標とする電子化率に到達するため、御社の現在の電子化率について調査する項目です。
C31: 現在の取引企業数は何社ありますか（事前アンケートより転載） | Y31: 0 | AA31: 社/全社
C32: 建設業振興基金殿の情報より
C33: 既に標準企業コード取得済み企業は何社程度ありましたか | Y33: 0 | AA33: 社程度/全社
C34: 現在の取引先企業電子化率 | Y34: =IF(ISERROR(Y33/$Y$31),0,Y33/$Y$31) -> 0
B36: 参考：主要取引先状況の算出
B38: 主要取引先の状況
B40: ■主要取引先10社の年間注文件数、グループ会社の有無、取引種別、標準企業コードの有無を入力してください。 この調査項目は、主要会社と電子商取引を行う上で、全社で何％の電子化率が期待できるかを調査する項目です。
C43: 年間の注文件数（業務量調査シートより転載） | Y43: =業務書類量調査!U19 -> 2400 | AA43: 件/年
C45: No | D45: 企業名 ※伏字・架空企業名でもかまいません | O45: 年間注文 件数 | R45: グループ会社 | T45: 主要取引 | W45: 標準企業 コードの有無 | Z45: 全体件数から の割合
C47: 1 | O47: 0 | Z47: =IF(ISERROR(O47/$Y$43),0,O47/$Y$43) -> 0
C48: 2 | O48: 0 | Z48: =IF(ISERROR(O48/$Y$43),0,O48/$Y$43) -> 0
C49: 3 | O49: 0 | Z49: =IF(ISERROR(O49/$Y$43),0,O49/$Y$43) -> 0
C50: 4 | O50: 0 | Z50: =IF(ISERROR(O50/$Y$43),0,O50/$Y$43) -> 0
C51: 5 | O51: 0 | Z51: =IF(ISERROR(O51/$Y$43),0,O51/$Y$43) -> 0
C52: 6 | O52: 0 | Z52: =IF(ISERROR(O52/$Y$43),0,O52/$Y$43) -> 0
C53: 7 | O53: 0 | Z53: =IF(ISERROR(O53/$Y$43),0,O53/$Y$43) -> 0
C54: 8 | O54: 0 | Z54: =IF(ISERROR(O54/$Y$43),0,O54/$Y$43) -> 0
C55: 9 | O55: 0 | Z55: =IF(ISERROR(O55/$Y$43),0,O55/$Y$43) -> 0
...

Sheet ●計算表
B1: 業務毎コスト算出ワークシート_現状（発注者編） | M1: 業務毎コスト算出ワークシート_導入後（発注者編）
C3: ：作業時間の入力値 | D3: ：作業時間コスト（参考値） | F3: ■作業時間のに数は、8時間を1日と計算する | N3: ：作業時間の入力値 | O3: ：作業時間コスト（参考値）
C4: ：作業時間の想定値 | N4: ：作業時間の想定値
C5: ：経費の想定値 | N5: ：経費の想定値
B7: 購買見積依頼 | M7: 購買見積依頼
B9: 1契約辺りの作業時間コスト、経費など | M9: 1契約辺りの作業時間コスト、経費など
B11: 取引先への送付手段 | D11: FAX | E11: 郵送 （一般封筒） | F11: 郵便 （書留等） | G11: 電子メール | H11: 取引先へ 持ち込み | I11: 取引先が 持ち帰り | J11: その他 | M11: 取引先への送付手段 | O11: 電子化後対応率 | P11: 電子商取引
C12: 割合 | D12: =現業務調査!Y18 -> 0 | E12: =現業務調査!Y19 -> 0 | F12: =現業務調査!Y20 -> 0 | G12: =現業務調査!Y21 -> 0 | H12: =現業務調査!Y22 -> 0 | I12: =現業務調査!Y23 -> 0 | J12: =現業務調査!Y24 -> 1
B14: 作業時間コスト | M14: 作業時間コスト
C15: 業者選定（相見積先の決定） ※15分を想定 | D15: 0 | E15: 0 | F15: 0 | G15: 0 | H15: 0 | I15: 0 | J15: 0 | N15: 業者選定（相見積先の決定） | O15: 1 | P15: =MAX(D15:J15)*O15 -> 0
C16: 見積依頼の作成時間 （現業務調査シートより平均時間を参照） | D16: =現業務調査!S14 -> 0 | N16: 見積依頼の作成時間 （導入後効果予測シートより導入後時間を参照） | P16: =導入後効果予測!AD9 -> 0
C17: 部門承認処理（所属長の確認、承認） ※2分を想定 | D17: 0 | E17: 0 | F17: 0 | G17: 0 | H17: 0 | I17: 0 | J17: 0 | N17: 部門承認処理（所属長の確認、承認） | O17: 0.5 | P17: =MAX(D17:J17)*O17 -> 0
C18: 1契約に対して発生する作業時間 | D18: =SUM(D15,D17)+$D$16 -> 0 | E18: =SUM(E15,E17)+$D$16 -> 0 | F18: =SUM(F15,F17)+$D$16 -> 0 | G18: =SUM(G15,G17)+$D$16 -> 0 | H18: =SUM(H15,H17)+$D$16 -> 0 | I18: =SUM(I15,I17)+$D$16 -> 0 | J18: =SUM(J15,J17)+$D$16 -> 0 | N18: 1契約に対して発生する作業時間 | P18: =SUM(P15:P17) -> 0
C19: 1契約に対して発生する作業時間コスト | D19: =D18*基礎情報!$Q$4 -> 0 | E19: =E18*基礎情報!$Q$4 -> 0 | F19: =F18*基礎情報!$Q$4 -> 0 | G19: =G18*基礎情報!$Q$4 -> 0 | H19: =H18*基礎情報!$Q$4 -> 0 | I19: =I18*基礎情報!$Q$4 -> 0 | J19: =J18*基礎情報!$Q$4 -> 0 | N19: 1契約に対して発生する作業時間コスト | P19: =P18*基礎情報!$Q$4 -> 0
B21: 1見積辺りの作業時間コスト、経費など | M21: 1見積辺りの作業時間コスト、経費など
B23: 作業時間コスト | M23: 作業時間コスト
C24: 封書・宛名書き ※3分を想定 | E24: 0 | F24: 0 | N24: 封書・宛名書き | O24: 0 | P24: =MAX(D24:J24)*O24 -> 0
C25: 担当者移動時間（往復） ※45分を想定 | H25: 0 | N25: 担当者移動時間（往復） | O25: 0 | P25: =MAX(D25:J25)*O25 -> 0
C26: 1見積に対して発生する作業時間 | D26: =SUM(D24:D25) -> 0 | E26: =SUM(E24:E25) -> 0 | F26: =SUM(F24:F25) -> 0 | G26: =SUM(G24:G25) -> 0 | H26: =SUM(H24:H25) -> 0 | I26: =SUM(I24:I25) -> 0 | J26: =SUM(J24:J25) -> 0 | N26: 1見積に対して発生する作業時間 | P26: =SUM(P24:P25) -> 0
C27: 1見積に対して発生する作業時間コスト | D27: =D26*基礎情報!$Q$4 -> 0 | E27: =E26*基礎情報!$Q$4 -> 0 | F27: =F26*基礎情報!$Q$4 -> 0 | G27: =G26*基礎情報!$Q$4 -> 0 | H27: =H26*基礎情報!$Q$4 -> 0 | I27: =I26*基礎情報!$Q$4 -> 0 | J27: =J26*基礎情報!$Q$4 -> 0 | N27: 1見積に対して発生する作業時間コスト | P27: =P26*基礎情報!$Q$4 -> 0
B28: 経費など | M28: 経費など
C29: 書類枚数 （現業務調査シートの鑑、明細情報、その他見積もりに係る枚数の合計を参照） | D29: =SUM(現業務調査!Y29:Y31) -> 0 | N29: 書類枚数 | O29: 1 | P29: =MAX(D29:J29)*O29 -> 0
C30: 見積依頼書の印刷代 ※2.6円/枚（白黒印刷）を想定 | D30: =$D$29*基礎情報!$M$14 -> 0 | E30: =$D$29*基礎情報!$M$14 -> 0 | F30: =$D$29*基礎情報!$M$14 -> 0 | H30: =$D$29*基礎情報!$M$14 -> 0 | I30: =$D$29*基礎情報!$M$14 -> 0 | N30: 見積依頼書の印刷代 | O30: 0 | P30: =MAX(D30:J30)*O30 -> 0
C31: FAX通信費 ※10円/15枚を想定 | D31: =ROUNDUP(D29/15*10,1) -> 0 | N31: FAX通信費 | O31: 0 | P31: =MAX(D31:J31)*O31 -> 0
C32: 郵送料 ※定形外：120円/個、簡易書留：420円/個 | E32: =基礎情報!$M$11 -> 105 | F32: =基礎情報!$T$11 -> 0 | N32: 郵送料 | O32: 0 | P32: =MAX(D32:J32)*O32 -> 0
C33: 交通費 往復 ※片道200円平均を想定 | H33: =基礎情報!$M$9 -> 0 | N33: 交通費 往復 | O33: 0 | P33: =MAX(D33:J33)*O33 -> 0
C34: 1見積に対して発生する経費など | D34: =SUM(D30:D33) -> 0 | E34: =SUM(E30:E33) -> 105 | F34: =SUM(F30:F33) -> 0 | G34: =SUM(G30:G33) -> 0 | H34: =SUM(H30:H33) -> 0 | I34: =SUM(I30:I33) -> 0 | J34: =SUM(J30:J33) -> 0 | N34: 1見積に対して発生する経費など | P34: =SUM(P30:P33) -> 0
B36: 1契約辺りの平均作業時間コスト | M36: 1契約辺りの平均作業時間コスト
C38: 1契約あたりの平均作業時間 | D38: =SUMPRODUCT($D$12:$J$12,$D$18:$J$18) -> 0 | N38: 1契約あたりの平均作業時間 | P38: =P18 -> 0
C39: 1契約あたりの平均作業コスト | D39: =SUMPRODUCT($D$12:$J$12,$D$19:$J$19) -> 0 | N39: 1契約あたりの平均作業コスト | P39: =P19 -> 0
B41: 1見積辺りの平均作業時間コスト | M41: 1見積辺りの平均作業時間コスト
C43: 1見積あたりの平均作業時間 | D43: =SUMPRODUCT($D$12:$J$12,$D$26:$J$26) -> 0 | N43: 1見積あたりの平均作業時間 | P43: =P26 -> 0
C44: 1見積あたりの平均作業コスト | D44: =SUMPRODUCT($D$12:$J$12,$D$27:$J$27) -> 0 | N44: 1見積あたりの平均作業コスト | P44: =P27 -> 0
B46: 1見積辺りの平均経費 | M46: 1見積辺りの平均経費
C48: 1契約あたりの平均作業経費 | D48: =SUMPRODUCT($D$12:$J$12,$D$34:$J$34) -> 0 | N48: 1契約あたりの平均作業経費 | P48: =P34 -> 0
B50: 見積の年間コスト | M50: 見積の年間コスト
C52: 年間注文件数 | D52: =業務書類量調査!$U$19 -> 2400 | N52: 年間注文件数 | P52: =業務書類量調査!$U$19 -> 2400
C53: 年間見積件数 | D53: =業務書類量調査!$U$25 -> 7200 | N53: 年間見積件数 | P53: =業務書類量調査!$U$25 -> 7200
C55: 件数 | D55: =$D$53*D12 -> 0 | E55: =$D$53*E12 -> 0 | F55: =$D$53*F12 -> 0 | G55: =$D$53*G12 -> 0 | H55: =$D$53*H12 -> 0 | I55: =$D$53*I12 -> 0 | J55: =$D$53*J12 -> 7200
C56: 作業時間 （時間/分） | D56: =(D18*$D$52*D12)+(D26*$D$53*D12) -> 0 | E56: =(E18*$D$52*E12)+(E26*$D$53*E12) -> 0 | F56: =(F18*$D$52*F12)+(F26*$D$53*F12) -> 0 | G56: =(G18*$D$52*G12)+(G26*$D$53*G12) -> 0 | H56: =(H18*$D$52*H12)+(H26*$D$53*H12) -> 0 | I56: =(I18*$D$52*I12)+(I26*$D$53*I12) -> 0 | J56: =(J18*$D$52*J12)+(J26*$D$53*J12) -> 0
...

Sheet ●削減効果
B2: 現業務別コスト結果・導入後コスト報告
B4: 現状の１業務毎のコスト調査結果
B6: ●現状の１業務毎にかかるコストの結果 コスト＝業務工数・諸経費 | X6: ●業務別、年間の総コストの算出結果 | AX6: 日時間 | AY6: =基礎情報!J5 -> 8
B9: 対象部署 | F9: 調査対象業務 | N9: 現状の １処理毎のコスト | X9: 年間発生件数 | AD9: 調査対象業務 | AJ9: １年間の 業務コスト | BM9: 備考： （調査結果の信憑性の確認）
AX10: 分計 | AY10: 日 | AZ10: 時間 | BA10: 分 | BB10: 文字列
F11: 見積依頼 | K11: 業務工数 | N11: ='<参考>●現在の業務の総コスト'!$G$10 -> 0 | X11: ='<参考>●現在の業務の総コスト'!$G$6 -> 7200 | AD11: 見積依頼 | AJ11: =BB11 -> - | AX11: ='<参考>●現在の業務の総コスト'!G20 -> 0 | AY11: =INT(AX11/$AY$6/60) -> 0 | AZ11: =INT((AX11-AY11*60*$AY$6)/60) -> 0 | BA11: =ROUND(MOD(AX11,60),0) -> 0 | BB11: =IF(AX11=0,"-",IF(AY11=0,"",AY11&"日")&IF(AZ11=0,"",AZ11&"時間")&IF(BA11=0,"",BA11&"分")) -> - | BM11: 3 | BO11: 拠点の | BU11: 月間（200時間/月） | CA11: =(AX11/60)/12/BM11/BM12 -> 0 | CD11: 時間の作業を実施
K12: 諸経費 | N12: ='<参考>●現在の業務の総コスト'!$K$10 -> 0 | AJ12: ='<参考>●現在の業務の総コスト'!$N$19 -> 0 | AY12: =INT(AX12/$AY$6/60) -> 0 | AZ12: =INT((AX12-AY12*60*$AY$6)/60) -> 0 | BA12: =ROUND(MOD(AX12,60),0) -> 0 | BB12: =IF(AX12=0,"-",IF(AY12=0,"",AY12&"日")&IF(AZ12=0,"",AZ12&"時間")&IF(BA12=0,"",BA12&"分")) -> - | BM12: 1 | BO12: 人の担当者が | BU12: 毎日（8時間/日） | CA12: =(AX11/60)/(12*20)/BM11/BM12 -> 0 | CD12: 時間の作業を実施
F13: 見積回答 | K13: 業務工数 | N13: ='<参考>●現在の業務の総コスト'!$G$11 -> 0 | X13: ='<参考>●現在の業務の総コスト'!$G$6 -> 7200 | AD13: 見積回答 | AJ13: =BB13 -> - | AX13: ='<参考>●現在の業務の総コスト'!G22 -> 0 | AY13: =INT(AX13/$AY$6/60) -> 0 | AZ13: =INT((AX13-AY13*60*$AY$6)/60) -> 0 | BA13: =ROUND(MOD(AX13,60),0) -> 0 | BB13: =IF(AX13=0,"-",IF(AY13=0,"",AY13&"日")&IF(AZ13=0,"",AZ13&"時間")&IF(BA13=0,"",BA13&"分")) -> - | BM13: 3 | BO13: 拠点の | BU13: 月間（200時間/月） | CA13: =(AX13/60)/12/BM13/BM14 -> 0 | CD13: 時間の作業を実施
K14: 諸経費 | N14: ='<参考>●現在の業務の総コスト'!$K$11 -> 0 | AJ14: ='<参考>●現在の業務の総コスト'!$N$21 -> 0 | AY14: =INT(AX14/$AY$6/60) -> 0 | AZ14: =INT((AX14-AY14*60*$AY$6)/60) -> 0 | BA14: =ROUND(MOD(AX14,60),0) -> 0 | BB14: =IF(AX14=0,"-",IF(AY14=0,"",AY14&"日")&IF(AZ14=0,"",AZ14&"時間")&IF(BA14=0,"",BA14&"分")) -> - | BM14: 1 | BO14: 人の担当者が | BU14: 毎日（8時間/日） | CA14: =(AX13/60)/(12*20)/BM13/BM14 -> 0 | CD14: 時間の作業を実施
F15: 注文書発行 | K15: 業務工数 | N15: ='<参考>●現在の業務の総コスト'!$G$12 -> 60 | X15: ='<参考>●現在の業務の総コスト'!$G$5 -> 2400 | AD15: 注文書発行 | AJ15: =BB15 -> 300日 | AX15: ='<参考>●現在の業務の総コスト'!G24 -> 144000 | AY15: =INT(AX15/$AY$6/60) -> 300 | AZ15: =INT((AX15-AY15*60*$AY$6)/60) -> 0 | BA15: =ROUND(MOD(AX15,60),0) -> 0 | BB15: =IF(AX15=0,"-",IF(AY15=0,"",AY15&"日")&IF(AZ15=0,"",AZ15&"時間")&IF(BA15=0,"",BA15&"分")) -> 300日 | BM15: 1 | BO15: 拠点の | BU15: 月間（200時間/月） | CA15: =(AX15/60)/12/BM15/BM16 -> 200 | CD15: 時間の作業を実施
K16: 諸経費 | N16: ='<参考>●現在の業務の総コスト'!$K$12 -> 120.6 | AJ16: ='<参考>●現在の業務の総コスト'!$N$23 -> 289440 | AY16: =INT(AX16/$AY$6/60) -> 0 | AZ16: =INT((AX16-AY16*60*$AY$6)/60) -> 0 | BA16: =ROUND(MOD(AX16,60),0) -> 0 | BB16: =IF(AX16=0,"-",IF(AY16=0,"",AY16&"日")&IF(AZ16=0,"",AZ16&"時間")&IF(BA16=0,"",BA16&"分")) -> - | BM16: 1 | BO16: 人の担当者が | BU16: 毎日（8時間/日） | CA16: =(AX15/60)/(12*20)/BM15/BM16 -> 10 | CD16: 時間の作業を実施
F17: 請書受理 | K17: 業務工数 | N17: ='<参考>●現在の業務の総コスト'!$G$13 -> 3 | X17: ='<参考>●現在の業務の総コスト'!$G$5 -> 2400 | AD17: 請書受理 | AJ17: =BB17 -> 15日 | AX17: ='<参考>●現在の業務の総コスト'!G26 -> 7200 | AY17: =INT(AX17/$AY$6/60) -> 15 | AZ17: =INT((AX17-AY17*60*$AY$6)/60) -> 0 | BA17: =ROUND(MOD(AX17,60),0) -> 0 | BB17: =IF(AX17=0,"-",IF(AY17=0,"",AY17&"日")&IF(AZ17=0,"",AZ17&"時間")&IF(BA17=0,"",BA17&"分")) -> 15日 | BM17: 1 | BO17: 拠点の | BU17: 月間（200時間/月） | CA17: =(AX17/60)/12/BM17/BM18 -> 10 | CD17: 時間の作業を実施
K18: 諸経費 | N18: ='<参考>●現在の業務の総コスト'!$K$13 -> 7.8 | AJ18: ='<参考>●現在の業務の総コスト'!$N$25 -> 18720 | AY18: =INT(AX18/$AY$6/60) -> 0 | AZ18: =INT((AX18-AY18*60*$AY$6)/60) -> 0 | BA18: =ROUND(MOD(AX18,60),0) -> 0 | BB18: =IF(AX18=0,"-",IF(AY18=0,"",AY18&"日")&IF(AZ18=0,"",AZ18&"時間")&IF(BA18=0,"",BA18&"分")) -> - | BM18: 1 | BO18: 人の担当者が | BU18: 毎日（8時間/日） | CA18: =(AX17/60)/(12*20)/BM17/BM18 -> 0.5 | CD18: 時間の作業を実施
F19: 出来高業務 | K19: 業務工数 | N19: ='<参考>●現在の業務の総コスト'!$G$14 -> 0 | X19: ='<参考>●現在の業務の総コスト'!$O$6 -> 0 | AD19: 出来高業務 | AJ19: =BB19 -> - | AX19: ='<参考>●現在の業務の総コスト'!G28 -> 0 | AY19: =INT(AX19/$AY$6/60) -> 0 | AZ19: =INT((AX19-AY19*60*$AY$6)/60) -> 0 | BA19: =ROUND(MOD(AX19,60),0) -> 0 | BB19: =IF(AX19=0,"-",IF(AY19=0,"",AY19&"日")&IF(AZ19=0,"",AZ19&"時間")&IF(BA19=0,"",BA19&"分")) -> - | BM19: 3 | BO19: 拠点の | BU19: 月間（200時間/月） | CA19: =(AX19/60)/12/BM19/BM20 -> 0 | CD19: 時間の作業を実施
K20: 諸経費 | N20: ='<参考>●現在の業務の総コスト'!$K$14 -> 0 | AJ20: ='<参考>●現在の業務の総コスト'!$N$27 -> 0 | AY20: =INT(AX20/$AY$6/60) -> 0 | AZ20: =INT((AX20-AY20*60*$AY$6)/60) -> 0 | BA20: =ROUND(MOD(AX20,60),0) -> 0 | BB20: =IF(AX20=0,"-",IF(AY20=0,"",AY20&"日")&IF(AZ20=0,"",AZ20&"時間")&IF(BA20=0,"",BA20&"分")) -> - | BM20: 1 | BO20: 人の担当者が | BU20: 毎日（8時間/日） | CA20: =(AX19/60)/(12*20)/BM19/BM20 -> 0 | CD20: 時間の作業を実施
F21: 請求業務 | K21: 業務工数 | N21: ='<参考>●現在の業務の総コスト'!$G$15 -> 0 | X21: ='<参考>●現在の業務の総コスト'!$O$6 -> 0 | AD21: 請求業務 | AJ21: =BB21 -> - | AX21: ='<参考>●現在の業務の総コスト'!G30 -> 0 | AY21: =INT(AX21/$AY$6/60) -> 0 | AZ21: =INT((AX21-AY21*60*$AY$6)/60) -> 0 | BA21: =ROUND(MOD(AX21,60),0) -> 0 | BB21: =IF(AX21=0,"-",IF(AY21=0,"",AY21&"日")&IF(AZ21=0,"",AZ21&"時間")&IF(BA21=0,"",BA21&"分")) -> - | BM21: 1 | BO21: 拠点の | BU21: 月間（200時間/月） | CA21: =(AX21/60)/12/BM21/BM22 -> 0 | CD21: 時間の作業を実施
K22: 諸経費 | N22: ='<参考>●現在の業務の総コスト'!$K$15 -> 0 | AJ22: ='<参考>●現在の業務の総コスト'!$N$29 -> 0 | AY22: =INT(AX22/$AY$6/60) -> 0 | AZ22: =INT((AX22-AY22*60*$AY$6)/60) -> 0 | BA22: =ROUND(MOD(AX22,60),0) -> 0 | BB22: =IF(AX22=0,"-",IF(AY22=0,"",AY22&"日")&IF(AZ22=0,"",AZ22&"時間")&IF(BA22=0,"",BA22&"分")) -> - | BM22: 1 | BO22: 人の担当者が | BU22: 毎日（8時間/日） | CA22: =(AX21/60)/(12*20)/BM21/BM22 -> 0 | CD22: 時間の作業を実施
AD23: 原本保管 | AJ23: =BB23 -> 3時間 | AX23: ='<参考>●現在の業務の総コスト'!G32 -> 180 | AY23: =INT(AX23/$AY$6/60) -> 0 | AZ23: =INT((AX23-AY23*60*$AY$6)/60) -> 3 | BA23: =ROUND(MOD(AX23,60),0) -> 0 | BB23: =IF(AX23=0,"-",IF(AY23=0,"",AY23&"日")&IF(AZ23=0,"",AZ23&"時間")&IF(BA23=0,"",BA23&"分")) -> 3時間
AJ24: ='<参考>●現在の業務の総コスト'!$N$31 -> 120000 | AY24: =INT(AX24/$AY$6/60) -> 0 | AZ24: =INT((AX24-AY24*60*$AY$6)/60) -> 0 | BA24: =ROUND(MOD(AX24,60),0) -> 0 | BB24: =IF(AX24=0,"-",IF(AY24=0,"",AY24&"日")&IF(AZ24=0,"",AZ24&"時間")&IF(BA24=0,"",BA24&"分")) -> -
AD25: 年間総業務工数 | AJ25: =BB25 -> 315日3時間 | AX25: =SUM(AX11:AX23) -> 151380 | AY25: =INT(AX25/$AY$6/60) -> 315 | AZ25: =INT((AX25-AY25*60*$AY$6)/60) -> 3 | BA25: =ROUND(MOD(AX25,60),0) -> 0 | BB25: =IF(AX25=0,"-",IF(AY25=0,"",AY25&"日")&IF(AZ25=0,"",AZ25&"時間")&IF(BA25=0,"",BA25&"分")) -> 315日3時間
AD26: 年間総諸経費 | AJ26: =AJ12+AJ14+AJ16+AJ18+AJ20+AJ22+AJ24 -> 428160
AD27: 総額 | AJ27: =($AX$25/60)*基礎情報!$J$4+AJ26 -> 7997160
B30: 電子商取引導入後の、１業務毎の予想コスト
B32: ●現状の１業務毎にかかるコスト | X32: ●電子商取引導入後の、１業務毎の予想コスト
AX34: 分計 | AY34: 日 | AZ34: 時間 | BA34: 分 | BB34: 文字列
B35: 対象部署 | F35: 調査対象業務 | N35: 電子商取引導入前 １処理毎のコスト | X35: 調査対象業務 | AC35: 電子商取引導入後 １業務毎のコスト | AK35: 削減効果 | AQ35: 削減率 | AY35: =INT(AX35/$AY$6/60) -> 0 | AZ35: =INT((AX35-AY35*60*$AY$6)/60) -> 0 | BA35: =ROUND(MOD(AX35,60),0) -> 0 | BB35: =IF(AX35=0,"-",IF(AY35=0,"",AY35&"日")&IF(AZ35=0,"",AZ35&"時間")&IF(BA35=0,"",BA35&"分")) -> -
AY36: =INT(AX36/$AY$6/60) -> 0 | AZ36: =INT((AX36-AY36*60*$AY$6)/60) -> 0 | BA36: =ROUND(MOD(AX36,60),0) -> 0 | BB36: =IF(AX36=0,"-",IF(AY36=0,"",AY36&"日")&IF(AZ36=0,"",AZ36&"時間")&IF(BA36=0,"",BA36&"分")) -> -
F37: 見積依頼 | K37: 業務工数 | N37: =N11 -> 0 | X37: 見積依頼 | AC37: ='<参考>●現在の業務の総コスト'!Z10 -> 0 | AK37: =AC37-N37 -> 0 | AQ37: =IF(ISERROR(1-(AC37/N37)),0,1-(AC37/N37)) -> 0 | AY37: =INT(AX37/$AY$6/60) -> 0 | AZ37: =INT((AX37-AY37*60*$AY$6)/60) -> 0 | BA37: =ROUND(MOD(AX37,60),0) -> 0 | BB37: =IF(AX37=0,"-",IF(AY37=0,"",AY37&"日")&IF(AZ37=0,"",AZ37&"時間")&IF(BA37=0,"",BA37&"分")) -> -
K38: 諸経費 | N38: =N12 -> 0 | AC38: ='<参考>●現在の業務の総コスト'!AH10 -> 0 | AK38: =AC38-N38 -> 0 | AQ38: =IF(ISERROR(1-(AC38/N38)),0,1-(AC38/N38)) -> 0 | AY38: =INT(AX38/$AY$6/60) -> 0 | AZ38: =INT((AX38-AY38*60*$AY$6)/60) -> 0 | BA38: =ROUND(MOD(AX38,60),0) -> 0 | BB38: =IF(AX38=0,"-",IF(AY38=0,"",AY38&"日")&IF(AZ38=0,"",AZ38&"時間")&IF(BA38=0,"",BA38&"分")) -> -
F39: 見積回答 | K39: 業務工数 | N39: =N13 -> 0 | X39: 見積回答 | AC39: ='<参考>●現在の業務の総コスト'!Z11 -> 0 | AK39: =AC39-N39 -> 0 | AQ39: =IF(ISERROR(1-(AC39/N39)),0,1-(AC39/N39)) -> 0 | AY39: =INT(AX39/$AY$6/60) -> 0 | AZ39: =INT((AX39-AY39*60*$AY$6)/60) -> 0 | BA39: =ROUND(MOD(AX39,60),0) -> 0 | BB39: =IF(AX39=0,"-",IF(AY39=0,"",AY39&"日")&IF(AZ39=0,"",AZ39&"時間")&IF(BA39=0,"",BA39&"分")) -> -
K40: 諸経費 | N40: =N14 -> 0 | AC40: ='<参考>●現在の業務の総コスト'!AH11 -> 0 | AK40: =AC40-N40 -> 0 | AQ40: =IF(ISERROR(1-(AC40/N40)),0,1-(AC40/N40)) -> 0 | AY40: =INT(AX40/$AY$6/60) -> 0 | AZ40: =INT((AX40-AY40*60*$AY$6)/60) -> 0 | BA40: =ROUND(MOD(AX40,60),0) -> 0 | BB40: =IF(AX40=0,"-",IF(AY40=0,"",AY40&"日")&IF(AZ40=0,"",AZ40&"時間")&IF(BA40=0,"",BA40&"分")) -> -
F41: 注文書発行 | K41: 業務工数 | N41: =N15 -> 60 | X41: 注文書発行 | AC41: ='<参考>●現在の業務の総コスト'!Z12 -> 45 | AK41: =AC41-N41 -> -15 | AQ41: =IF(ISERROR(1-(AC41/N41)),0,1-(AC41/N41)) -> 0.25 | AY41: =INT(AX41/$AY$6/60) -> 0 | AZ41: =INT((AX41-AY41*60*$AY$6)/60) -> 0 | BA41: =ROUND(MOD(AX41,60),0) -> 0 | BB41: =IF(AX41=0,"-",IF(AY41=0,"",AY41&"日")&IF(AZ41=0,"",AZ41&"時間")&IF(BA41=0,"",BA41&"分")) -> -
K42: 諸経費 | N42: =N16 -> 120.6 | AC42: ='<参考>●現在の業務の総コスト'!AH12 -> 0 | AK42: =AC42-N42 -> -120.6 | AQ42: =IF(ISERROR(1-(AC42/N42)),0,1-(AC42/N42)) -> 1 | AY42: =INT(AX42/$AY$6/60) -> 0 | AZ42: =INT((AX42-AY42*60*$AY$6)/60) -> 0 | BA42: =ROUND(MOD(AX42,60),0) -> 0 | BB42: =IF(AX42=0,"-",IF(AY42=0,"",AY42&"日")&IF(AZ42=0,"",AZ42&"時間")&IF(BA42=0,"",BA42&"分")) -> -
F43: 請書受理 | K43: 業務工数 | N43: =N17 -> 3 | X43: 請書受理 | AC43: ='<参考>●現在の業務の総コスト'!Z13 -> 3 | AK43: =AC43-N43 -> 0 | AQ43: =IF(ISERROR(1-(AC43/N43)),0,1-(AC43/N43)) -> 0 | AY43: =INT(AX43/$AY$6/60) -> 0 | AZ43: =INT((AX43-AY43*60*$AY$6)/60) -> 0 | BA43: =ROUND(MOD(AX43,60),0) -> 0 | BB43: =IF(AX43=0,"-",IF(AY43=0,"",AY43&"日")&IF(AZ43=0,"",AZ43&"時間")&IF(BA43=0,"",BA43&"分")) -> -
K44: 諸経費 | N44: =N18 -> 7.8 | AC44: ='<参考>●現在の業務の総コスト'!AH13 -> 0 | AK44: =AC44-N44 -> -7.8 | AQ44: =IF(ISERROR(1-(AC44/N44)),0,1-(AC44/N44)) -> 1 | AY44: =INT(AX44/$AY$6/60) -> 0 | AZ44: =INT((AX44-AY44*60*$AY$6)/60) -> 0 | BA44: =ROUND(MOD(AX44,60),0) -> 0 | BB44: =IF(AX44=0,"-",IF(AY44=0,"",AY44&"日")&IF(AZ44=0,"",AZ44&"時間")&IF(BA44=0,"",BA44&"分")) -> -
F45: 出来高業務 | K45: 業務工数 | N45: =N19 -> 0 | X45: 出来高業務 | AC45: ='<参考>●現在の業務の総コスト'!Z14 -> 0 | AK45: =AC45-N45 -> 0 | AQ45: =IF(ISERROR(1-(AC45/N45)),0,1-(AC45/N45)) -> 0 | AY45: =INT(AX45/$AY$6/60) -> 0 | AZ45: =INT((AX45-AY45*60*$AY$6)/60) -> 0 | BA45: =ROUND(MOD(AX45,60),0) -> 0 | BB45: =IF(AX45=0,"-",IF(AY45=0,"",AY45&"日")&IF(AZ45=0,"",AZ45&"時間")&IF(BA45=0,"",BA45&"分")) -> -
K46: 諸経費 | N46: =N20 -> 0 | AC46: ='<参考>●現在の業務の総コスト'!AH14 -> 0 | AK46: =AC46-N46 -> 0 | AQ46: =IF(ISERROR(1-(AC46/N46)),0,1-(AC46/N46)) -> 0 | AY46: =INT(AX46/$AY$6/60) -> 0 | AZ46: =INT((AX46-AY46*60*$AY$6)/60) -> 0 | BA46: =ROUND(MOD(AX46,60),0) -> 0 | BB46: =IF(AX46=0,"-",IF(AY46=0,"",AY46&"日")&IF(AZ46=0,"",AZ46&"時間")&IF(BA46=0,"",BA46&"分")) -> -
F47: 請求業務 | K47: 業務工数 | N47: =N21 -> 0 | X47: 請求業務 | AC47: ='<参考>●現在の業務の総コスト'!Z15 -> 0 | AK47: =AC47-N47 -> 0 | AQ47: =IF(ISERROR(1-(AC47/N47)),0,1-(AC47/N47)) -> 0 | AY47: =INT(AX47/$AY$6/60) -> 0 | AZ47: =INT((AX47-AY47*60*$AY$6)/60) -> 0 | BA47: =ROUND(MOD(AX47,60),0) -> 0 | BB47: =IF(AX47=0,"-",IF(AY47=0,"",AY47&"日")&IF(AZ47=0,"",AZ47&"時間")&IF(BA47=0,"",BA47&"分")) -> -
K48: 諸経費 | N48: =N22 -> 0 | AC48: ='<参考>●現在の業務の総コスト'!AH15 -> 0 | AK48: =AC48-N48 -> 0 | AQ48: =IF(ISERROR(1-(AC48/N48)),0,1-(AC48/N48)) -> 0 | AY48: =INT(AX48/$AY$6/60) -> 0 | AZ48: =INT((AX48-AY48*60*$AY$6)/60) -> 0 | BA48: =ROUND(MOD(AX48,60),0) -> 0 | BB48: =IF(AX48=0,"-",IF(AY48=0,"",AY48&"日")&IF(AZ48=0,"",AZ48&"時間")&IF(BA48=0,"",BA48&"分")) -> -
K52: 作業時間 前 | L52: 経費 前 | M52: 作業時間 後 | N52: 経費 後 | V52: 準備・確認など | W52: 作成・折衝など | X52: 承認処理 | Y52: 移動時間・封書詰めなど | Z52: ファイリング | AA52: 経費
...

Sheet 投資情報
B1: 建設業電子商取引導入支援事業
B2: コスト算出の為のCI-NET導入タイプ基礎情報
B3: 共通事項
B4: ハードウェア更新年 | I4: 5 | K4: 年ごと更新
B5: 購買・注文導入年 | I5: 1 | K5: 年後 | P5: 出来高・請求導入年 | W5: 8 | Y5: 年後
B9: 自社構築タイプ
B10: ■初期費・年額費など
B12: 業務システム | I12: 購買・注文業務 | Q12: 初期費 | W12: 0 | AD12: ※既存システム流用
Q13: 年額費 | W13: =W12*0.1 -> 0 | AD13: ※既存システム流用
I14: 出来高・請求業務 | Q14: 初期費 | W14: 0 | AD14: ※既存システム流用
Q15: 年額費 | W15: =W14*0.1 -> 0 | AD15: ※既存システム流用
B16: 連携システムの開発 | I16: 購買・注文業務連携 | Q16: 初期費 | W16: 0 | AD16: ※個別開発
Q17: 年額費 | W17: =W16*0.1 -> 0 | AD17: ※個別開発
I18: 出来高・請求業務連携 | Q18: 初期費 | W18: 0 | AD18: ※個別開発
Q19: 年額費 | W19: =W18*0.1 -> 0 | AD19: ※個別開発
B20: CI-NET対応EDI機能 | I20: EDI送受信システム （購買・注文） | Q20: 初期費 | W20: 0 | AD20: ※ハード・ソフト費に含む
Q21: 年額費 | W21: =W20*0.12 -> 0 | AD21: ※ハード・ソフト費に含む
I22: EDI送受信システム （出来高・請求） | Q22: 初期費 | W22: 0 | AD22: ※ハード・ソフト費に含む
Q23: 年額費 | W23: =W22*0.12 -> 0 | AD23: ※ハード・ソフト費に含む
I24: 原本保管システム | Q24: 初期費 | W24: 0 | AD24: ※ハード・ソフト費に含む
Q25: 年額費 | W25: =W24*0.12 -> 0 | AD25: ※ハード・ソフト費に含む
B26: ハード・ソフト費用 | Q26: 対象 | W26: 連携・EDI・原本サーバ
Q27: 初期費 | W27: 0
Q28: 年額費 | W28: =W27*0.1 -> 0
B29: その他費用 | Q29: 初期費 | W29: 0 | AD29: ※電気代などその他費用がある場合に記載
Q30: 年額費 | W30: 0 | AD30: ※電気代などその他費用がある場合に記載
B31: 合計 | Q31: 初期費合計 | W31: =SUMIF($Q$12:$AC$30,"初期費",$W$12:$AC$30) -> 0
Q32: 年額費合計 | W32: =SUMIF($Q$12:$AC$30,"年額費",$W$12:$AC$30) -> 0
B33: ■教育費・問合せ要員費など
B35: 新システム社内教育費 | J35: 初年度 | N35: =IF(ISERROR(S35*W35),0,ROUNDUP(S35*W35,0)) -> 0 | P35: 人日 | R35: ※ | S35: 0 | T35: 人が計 | W35: 1 | X35: 回、講師を実施 | AD35: ※購買、出来高開始時期に発生すると想定
B36: 新システム業者教育費 | J36: 初年度 | N36: =IF(ISERROR(S36*W36),0,ROUNDUP(S36*W36,0)) -> 0 | P36: 人日 | R36: ※ | S36: 0 | T36: 人が計 | W36: 1 | X36: 回、講師を実施 | AD36: ※購買、出来高開始時期に発生すると想定
J37: 2年目以降 | N37: =IF(ISERROR(S37*(12/V37)),0,ROUNDUP(S37*(12/V37),0)) -> 0 | P37: 人日 | R37: ※ | S37: 0 | T37: 人が | V37: 1 | W37: ヶ月に一回、講師を実施 | AD37: ※毎年発生するものと想定
B38: 新システム作業要員費 | J38: 毎年 | N38: =IF(ISERROR(S38*(360/V38)*(Y38/8)),0,ROUNDUP(S38*(360/V38)*(Y38/8),0)) -> 0 | P38: 人日 | R38: ※ | S38: 0 | T38: 人が | V38: 30 | W38: 日で | Y38: 1 | Z38: 時間対応 | AD38: ※自社構築のみ、自社システムの管理者を指します
B39: 新システム問合せ要員費 | J39: 毎年 | N39: =IF(ISERROR(S39*(360/V39)*(Y39/8)),0,ROUNDUP(S39*(360/V39)*(Y39/8),0)) -> 0 | P39: 人日 | R39: ※ | S39: 0 | T39: 人が | V39: 30 | W39: 日で | Y39: 1 | Z39: 時間対応 | AD39: ※自社内、業者内から操作・内容についての問合せ対応を指します
B41: ASP活用タイプＩ
B42: ■初期費・年額費など | AK42: 1 | AL42: 名がシステムを利用
B44: 業務システム | I44: 購買・注文業務 | Q44: 初期費 | W44: 0 | AD44: ※既存システム流用
Q45: 年額費 | W45: =W44*0.1 -> 0 | AD45: ※既存システム流用
I46: 出来高・請求業務 | Q46: 初期費 | W46: 0 | AD46: ※既存システム流用
Q47: 年額費 | W47: =W46*0.1 -> 0 | AD47: ※既存システム流用
...

Sheet ●ｼﾐｭﾚｰｼｮﾝ結果
B1: 価格低 | C1: 0.8 | D1: 価格高 | E1: 1.3
G3: 1 | H3: =G3-0.03 -> 0.97 | I3: =H3-0.03 -> 0.94 | J3: =I3-0.03 -> 0.91 | K3: =J3-0.03 -> 0.88 | L3: =K3-0.03 -> 0.85 | M3: =L3-0.03 -> 0.82 | N3: =M3-0.03 -> 0.79 | O3: =N3-0.03 -> 0.76 | ... Q3: =P3-0.03 -> 0.7
C4: 導入年別変動率入力
D5: 経過年数 | G5: 導入時 | H5: 1年目 | I5: 2年目 | J5: 3年目 | K5: 4年目 | L5: 5年目 | M5: 6年目 | N5: 7年目 | O5: 8年目 | P5: 9年目 | Q5: 10年目
D6: 景気変動率 ※自動計算します | G6: 1 | H6: 1 | I6: 1 | J6: 1 | K6: 1 | L6: 1 | M6: 1 | N6: 1 | O6: 1 | P6: 1 | Q6: 1
D7: 電子化率（購買～注文） ※１ | G7: 0 | H7: 0 | I7: 0.31 | J7: 0.4 | K7: 0.5 | L7: 0.6 | M7: 0.6 | N7: 0.6 | O7: 0.6 | P7: 0.6 | Q7: 0.6
D8: 電子化率（出来高～請求） ※１ | G8: 0 | H8: 0 | I8: 0 | J8: 0 | K8: 0 | L8: 0 | M8: 0 | N8: 0 | O8: 0 | P8: 0 | Q8: 0
B108: 自社構築タイプ
B110: 企業情報 | G110: 導入予定
B111: 業種 | D111: 総合建設業 | G111: 購買～注文導入 | I111: =投資情報!$I$5+1 -> 2
B112: 社員数 | E112: 人 | G112: 出来高～請求導入 | I112: =投資情報!$W$5+1 -> 9
B113: 業務区分 | D113: 発注者
B114: 年間見積件数 | D114: ='<参考>●現在の業務の総コスト'!$G$6 -> 7200 | E114: 件 | G114: 目標電子化率 | L114: 導入コスト
B115: 年間契約件数 | D115: ='<参考>●現在の業務の総コスト'!$G$5 -> 2400 | E115: 件 | H115: 購買～ 注文 | I115: 出来高～請求 | L115: 導入タイプ | N115: =B108 -> 自社構築タイプ
B116: 年間請求件数 | D116: ='<参考>●現在の業務の総コスト'!$O$6 -> 0 | E116: 件 | L116: 初期投資費（参考） | N116: =TEXT(ROUNDDOWN((投資情報!W31*$C$1),-LOG(投資情報!W31)+1),"\#,##0;\-#,##0")&" ～ "&TEXT(ROUNDUP((投資情報!W31*$E$1),-LOG(投資情報!W31)+1),"\#,##0;\-#,##0") -> #NUM!
G117: =目標電子化率!$C$11 -> 1 | H117: =目標電子化率!$M$13 -> 0.2 | I117: =目標電子化率!$M$14 -> 0 | L117: 月額費（参考） | N117: =TEXT(ROUNDDOWN((投資情報!W32/12*$C$1),-LOG(投資情報!W32/12)+1),"\#,##0;\-#,##0")&" ～ "&TEXT(ROUNDUP((投資情報!W32/12*$E$1),-LOG(投資情報!W32/12)+1),"\#,##0;\-#,##0") -> #NUM!
G118: =目標電子化率!$C$16 -> 3 | H118: =目標電子化率!$M$18 -> 0.4 | I118: =目標電子化率!$M$19 -> 0 | L118: 老朽化更新 | N118: ="ハードウェア "&投資情報!$I$4&" 年毎更新" -> ハードウェア 5 年毎更新
G119: =目標電子化率!$C$21 -> 5 | H119: =目標電子化率!$M$23 -> 0.6 | I119: =目標電子化率!$M$24 -> 0
L120: 教育・運用支援
L121: 社内教育 | N121: =投資情報!$N$35 -> 0
L122: 取引先教育 | N122: =投資情報!$N$36&"人日／初年度 + "&投資情報!$N$37&"人日／年" -> 0人日／初年度 + 0人日／年
L123: システム保守要員 | N123: =投資情報!$N$38 -> 0
L124: 業務支援要員 | N124: =投資情報!$N$39 -> 0
Q126: （単位：千円）
D127: コストシミュレーション | G127: 導入時 | H127: 1年目 | I127: 2年目 | J127: 3年目 | K127: 4年目 | L127: 5年目 | M127: 6年目 | N127: 7年目 | O127: 8年目 | P127: 9年目 | Q127: 10年目
D128: 景気変動率 | G128: =$G$6 -> 1 | H128: =$H$6 -> 1 | I128: =$I$6 -> 1 | J128: =$J$6 -> 1 | K128: =$K$6 -> 1 | L128: =$L$6 -> 1 | M128: =$M$6 -> 1 | N128: =$N$6 -> 1 | O128: =$O$6 -> 1 | P128: =$P$6 -> 1 | Q128: =$Q$6 -> 1
D129: 購買～注文電子化率 | G129: =$G$7 -> 0 | H129: =$H$7 -> 0 | I129: =$I$7 -> 0.31 | J129: =$J$7 -> 0.4 | K129: =$K$7 -> 0.5 | L129: =$L$7 -> 0.6 | M129: =$M$7 -> 0.6 | N129: =$N$7 -> 0.6 | O129: =$O$7 -> 0.6 | P129: =$P$7 -> 0.6 | Q129: =$Q$7 -> 0.6
D130: 出来高～請求電子化率 | G130: =$G$8 -> 0 | H130: =$H$8 -> 0 | I130: =$I$8 -> 0 | J130: =$J$8 -> 0 | K130: =$K$8 -> 0 | L130: =$L$8 -> 0 | M130: =$M$8 -> 0 | N130: =$N$8 -> 0 | O130: =$O$8 -> 0 | P130: =$P$8 -> 0 | Q130: =$Q$8 -> 0
D131: 効果 | E131: 削減効果 | G131: =G138/1000 -> 0 | H131: =H138/1000 -> 0 | I131: =I138/1000 -> 695.361 | J131: =J138/1000 -> 897.24 | K131: =K138/1000 -> 1121.55 | L131: =L138/1000 -> 1345.86 | M131: =M138/1000 -> 1345.86 | N131: =N138/1000 -> 1345.86 | ... Q131: =Q138/1000 -> 1345.86
D132: 投資 | E132: ﾊｰﾄﾞｳｪｱ等 | G132: =G142/1000 -> 0 | H132: =H142/1000 -> 0 | I132: =I142/1000 -> 0 | J132: =J142/1000 -> 0 | K132: =K142/1000 -> 0 | L132: =L142/1000 -> 0 | M132: =M142/1000 -> 0 | N132: =N142/1000 -> 0 | ... Q132: =Q142/1000 -> 0
E133: 初期導入費 | G133: =G141/1000 -> 0 | H133: =H141/1000 -> 0 | I133: =I141/1000 -> 0 | J133: =J141/1000 -> 0 | K133: =K141/1000 -> 0 | L133: =L141/1000 -> 0 | M133: =M141/1000 -> 0 | N133: =N141/1000 -> 0 | ... Q133: =Q141/1000 -> 0
E134: 月額費計 | G134: =G140/1000 -> 0 | H134: =H140/1000 -> 0 | I134: =I140/1000 -> 0 | J134: =J140/1000 -> 0 | K134: =K140/1000 -> 0 | L134: =L140/1000 -> 0 | M134: =M140/1000 -> 0 | N134: =N140/1000 -> 0 | ... Q134: =Q140/1000 -> 0
E135: 教育運用支援 | G135: =G139/1000 -> 0 | H135: =H139/1000 -> 0 | I135: =I139/1000 -> 0 | J135: =J139/1000 -> 0 | K135: =K139/1000 -> 0 | L135: =L139/1000 -> 0 | M135: =M139/1000 -> 0 | N135: =N139/1000 -> 0 | ... Q135: =Q139/1000 -> 0
G137: 導入時 | H137: 1年目 | I137: 2年目 | J137: 3年目 | K137: 4年目 | L137: 5年目 | M137: 6年目 | N137: 7年目 | O137: 8年目 | P137: 9年目 | Q137: 10年目
F138: 削減効果 | G138: ='<参考>●総コスト算出WS'!$E$43*$G$6 -> 0 | H138: ='<参考>●総コスト算出WS'!$F$43*$H$6 -> 0 | I138: ='<参考>●総コスト算出WS'!$G$43*$I$6 -> 695361 | J138: ='<参考>●総コスト算出WS'!$H$43*$J$6 -> 897240 | K138: ='<参考>●総コスト算出WS'!$I$43*$K$6 -> 1121550 | L138: ='<参考>●総コスト算出WS'!$J$43*$L$6 -> 1345860 | M138: ='<参考>●総コスト算出WS'!$K$43*$M$6 -> 1345860 | N138: ='<参考>●総コスト算出WS'!$L$43*$N$6 -> 1345860 | O138: ='<参考>●総コスト算出WS'!$M$43*$O$6 -> 1345860 | P138: ='<参考>●総コスト算出WS'!$N$43*$P$6 -> 1345860 | Q138: ='<参考>●総コスト算出WS'!$O$43*$Q$6 -> 1345860
F139: 教育運用支援 | G139: =-(SUM('<参考>●総コスト算出WS'!E58:E61)+SUM('<参考>●総コスト算出WS'!E71:E73)) -> 0 | H139: =-(SUM('<参考>●総コスト算出WS'!F58:F61)+SUM('<参考>●総コスト算出WS'!F71:F73)) -> 0 | I139: =-(SUM('<参考>●総コスト算出WS'!G58:G61)+SUM('<参考>●総コスト算出WS'!G71:G73)) -> 0 | J139: =-(SUM('<参考>●総コスト算出WS'!H58:H61)+SUM('<参考>●総コスト算出WS'!H71:H73)) -> 0 | K139: =-(SUM('<参考>●総コスト算出WS'!I58:I61)+SUM('<参考>●総コスト算出WS'!I71:I73)) -> 0 | L139: =-(SUM('<参考>●総コスト算出WS'!J58:J61)+SUM('<参考>●総コスト算出WS'!J71:J73)) -> 0 | M139: =-(SUM('<参考>●総コスト算出WS'!K58:K61)+SUM('<参考>●総コスト算出WS'!K71:K73)) -> 0 | N139: =-(SUM('<参考>●総コスト算出WS'!L58:L61)+SUM('<参考>●総コスト算出WS'!L71:L73)) -> 0 | ... Q139: =-(SUM('<参考>●総コスト算出WS'!O58:O61)+SUM('<参考>●総コスト算出WS'!O71:O73)) -> 0
F140: 年額費計 | G140: =-(SUM('<参考>●総コスト算出WS'!E64:E70)) -> 0 | H140: =-(SUM('<参考>●総コスト算出WS'!F64:F70)) -> 0 | I140: =-(SUM('<参考>●総コスト算出WS'!G64:G70)) -> 0 | J140: =-(SUM('<参考>●総コスト算出WS'!H64:H70)) -> 0 | K140: =-(SUM('<参考>●総コスト算出WS'!I64:I70)) -> 0 | L140: =-(SUM('<参考>●総コスト算出WS'!J64:J70)) -> 0 | M140: =-(SUM('<参考>●総コスト算出WS'!K64:K70)) -> 0 | N140: =-(SUM('<参考>●総コスト算出WS'!L64:L70)) -> 0 | ... Q140: =-(SUM('<参考>●総コスト算出WS'!O64:O70)) -> 0
F141: 初期導入費 | G141: =-(SUM('<参考>●総コスト算出WS'!E51:E57)) -> 0 | H141: =-(SUM('<参考>●総コスト算出WS'!F51:F57)) -> 0 | I141: =-(SUM('<参考>●総コスト算出WS'!G51:G57)) -> 0 | J141: =-(SUM('<参考>●総コスト算出WS'!H51:H57)) -> 0 | K141: =-(SUM('<参考>●総コスト算出WS'!I51:I57)) -> 0 | L141: =-(SUM('<参考>●総コスト算出WS'!J51:J57)) -> 0 | M141: =-(SUM('<参考>●総コスト算出WS'!K51:K57)) -> 0 | N141: =-(SUM('<参考>●総コスト算出WS'!L51:L57)) -> 0 | ... Q141: =-(SUM('<参考>●総コスト算出WS'!O51:O57)) -> 0
F142: ﾊｰﾄﾞｳｪｱ等 | G142: =-('<参考>●総コスト算出WS'!E50+'<参考>●総コスト算出WS'!E63) -> 0 | H142: =-('<参考>●総コスト算出WS'!F50+'<参考>●総コスト算出WS'!F63) -> 0 | I142: =-('<参考>●総コスト算出WS'!G50+'<参考>●総コスト算出WS'!G63) -> 0 | J142: =-('<参考>●総コスト算出WS'!H50+'<参考>●総コスト算出WS'!H63) -> 0 | K142: =-('<参考>●総コスト算出WS'!I50+'<参考>●総コスト算出WS'!I63) -> 0 | L142: =-('<参考>●総コスト算出WS'!J50+'<参考>●総コスト算出WS'!J63) -> 0 | M142: =-('<参考>●総コスト算出WS'!K50+'<参考>●総コスト算出WS'!K63) -> 0 | N142: =-('<参考>●総コスト算出WS'!L50+'<参考>●総コスト算出WS'!L63) -> 0 | ... Q142: =-('<参考>●総コスト算出WS'!O50+'<参考>●総コスト算出WS'!O63) -> 0
F143: 差額 | G143: =SUM(G138:G142) -> 0 | H143: =SUM(H138:H142) -> 0 | I143: =SUM(I138:I142) -> 695361 | J143: =SUM(J138:J142) -> 897240 | K143: =SUM(K138:K142) -> 1121550 | L143: =SUM(L138:L142) -> 1345860 | M143: =SUM(M138:M142) -> 1345860 | N143: =SUM(N138:N142) -> 1345860 | ... Q143: =SUM(Q138:Q142) -> 1345860
...

Sheet <参考>●調査結果早見表
A1: 調査シート結果一覧（発注者）
A3: １）.取引に関する書類量調査(年間書類量）
B5: 業務量書類調査シートより
B6: 注文件数 | L6: =業務書類量調査!$U$19 -> 2400 | N6: 件/年 | P6: 調査対象範囲 | W6: =業務書類量調査!$Y$12 -> 0
B7: 請求件数 | L7: =業務書類量調査!$U$20 -> 0 | N7: 件/年 | P7: ※候補：[0=全社、1=部署・工種などの特定範囲]
B8: うち、契約・契約外の割合 | K8: 契約 | L8: =業務書類量調査!$U$21 -> 0
K9: 契約外 | L9: =業務書類量調査!$U$22 -> 0
A11: ２）.各業務量調査
B13: 現業務調査シートより | V13: 導入後効果予測シートより
B14: 購買見積依頼
B15: 作成時間
C16: システムから情報を出力 | L16: =現業務調査!$S11 -> 0 | N16: 分 | P16: =現業務調査!$Y11 -> 0
C17: 専用システム、表計算ソフトで作成 | L17: =現業務調査!$S12 -> 0 | N17: 分 | P17: =現業務調査!$Y12 -> 0
C18: 書面で作成 | L18: =現業務調査!$S13 -> 0 | N18: 分 | P18: =現業務調査!$Y13 -> 1
K19: 平均 | L19: =現業務調査!$S$14 -> 0 | N19: 分 | W19: =IF(ISBLANK(導入後効果予測!$AD$9),"",導入後効果予測!$AD$9) -> 0 | Y19: 分程度
B20: 取引先への送付手段
C21: FAX | L21: =現業務調査!$Y18 -> 0
C22: 郵送（一般封筒） | L22: =現業務調査!$Y19 -> 0
C23: 郵便（書留等） | L23: =現業務調査!$Y20 -> 0
C24: 電子メール | L24: =現業務調査!$Y21 -> 0
C25: 取引先へ持ち込み | L25: =現業務調査!$Y22 -> 0
C26: 取引先が持ち帰り | L26: =現業務調査!$Y23 -> 0
B27: 相見積り社数 | L27: =現業務調査!$Y$43 -> 3 | N27: 社
B28: 見積比較時間 | L28: =現業務調査!$Y$45 -> 0 | N28: 分 | W28: =IF(ISBLANK(導入後効果予測!$AD$12),"",導入後効果予測!$AD$12) -> 0 | Y28: 分程度
B29: 購買見積回答
B30: 入手手段
C31: 紙媒体（紙・FAXなど） | L31: =現業務調査!$Y55 -> 0
C32: 電子媒体（表計算・CSV形式など） | L32: =現業務調査!$Y56 -> 0
B33: 契約（注文書・請書）
B34: 作成時間
C35: システムから情報を出力 | L35: =現業務調査!$S81 -> 0 | N35: 分 | P35: =現業務調査!$Y81 -> 0
C36: 専用システム、表計算ソフトで作成 | L36: =現業務調査!$S82 -> 0 | N36: 分 | P36: =現業務調査!$Y82 -> 0
C37: 書面で作成 | L37: =現業務調査!$S83 -> 30 | N37: 分 | P37: =現業務調査!$Y83 -> 1
K38: 平均 | L38: =現業務調査!$S$84 -> 30 | N38: 分 | W38: =IF(ISBLANK(導入後効果予測!$AD$18),"",導入後効果予測!$AD$18) -> 15 | Y38: 分程度
B39: 発注者への送付形式
C40: 郵送（一般封筒） | L40: =現業務調査!$Y88 -> 1
C41: 取引先へ持ち込み | L41: =現業務調査!$Y89 -> 0
C42: 取引先が持ち帰り | L42: =現業務調査!$Y90 -> 0
B43: 請書入手手段
C44: 郵送等で受け取る | L44: =現業務調査!$Y108 -> 1
...

Sheet <参考>●現在の業務の総コスト
B2: 現業務・書類量調査シートから算出した、現在の取引業務に係わるコスト（ご参考）
B4: 企業名 | G4: ●●株式会社
B5: 年間注文件数 | G5: =業務書類量調査!U19 -> 2400 | J5: 相見積社数 | O5: =現業務調査!Y43 -> 3
B6: 年間見積件数 | G6: =業務書類量調査!U25 -> 7200 | J6: 年間請求件数 | O6: =業務書類量調査!U30 -> 0 | S6: 年間外部委託保管量 | Z6: =業務書類量調査!U33 -> 10
G8: 書類１枚あたりの導入前平均コスト | Z8: 書類１枚あたりの電子化後予想平均コスト（電子化率100%の場合）
G9: 作業時間 （分） | K9: 経費等 （円） | O9: 総コスト 作業時間＋経費 | Z9: 作業時間 （分） | AD9: 作業時間 電子化の差 | AH9: 経費等 （円） | AL9: 経費 電子化の差 | AP9: 総コスト 作業時間＋経費
B10: 購買見積依頼 | G10: =●計算表!D38+●計算表!D43 -> 0 | K10: =●計算表!D48 -> 0 | O10: =(G10*基礎情報!$Q$4)+K10 -> 0 | U10: 購買見積依頼 | Z10: =●計算表!P38+●計算表!P43 -> 0 | AD10: =Z10-G10 -> 0 | AH10: =●計算表!P48 -> 0 | AL10: =AH10-K10 -> 0 | AP10: =(Z10*基礎情報!$Q$4)+AH10 -> 0
B11: 購買見積回答 | G11: =●計算表!D104+●計算表!D109 -> 0 | K11: =●計算表!D114 -> 0 | O11: =(G11*基礎情報!$Q$4)+K11 -> 0 | U11: 購買見積回答 | Z11: =●計算表!P104+●計算表!P109 -> 0 | AD11: =Z11-G11 -> 0 | AH11: =●計算表!P114 -> 0 | AL11: =AH11-K11 -> 0 | AP11: =(Z11*基礎情報!$Q$4)+AH11 -> 0
B12: 確定注文 | G12: =●計算表!D170 -> 60 | K12: =●計算表!D175 -> 120.6 | O12: =(G12*基礎情報!$Q$4)+K12 -> 3120.6 | U12: 確定注文 | Z12: =●計算表!P170 -> 45 | AD12: =Z12-G12 -> -15 | AH12: =●計算表!P175 -> 0 | AL12: =AH12-K12 -> -120.6 | AP12: =(Z12*基礎情報!$Q$4)+AH12 -> 2250
B13: 注文請け | G13: =●計算表!D230 -> 3 | K13: =●計算表!D235 -> 7.8 | O13: =(G13*基礎情報!$Q$4)+K13 -> 157.8 | U13: 注文請け | Z13: =●計算表!P230 -> 3 | AD13: =Z13-G13 -> 0 | AH13: =●計算表!P235 -> 0 | AL13: =AH13-K13 -> -7.8 | AP13: =(Z13*基礎情報!$Q$4)+AH13 -> 150
B14: 出来高折衝 | G14: =●計算表!D286 -> 0 | K14: =●計算表!D291 -> 0 | O14: =(G14*基礎情報!$Q$4)+K14 -> 0 | U14: 出来高折衝 | Z14: =●計算表!P286 -> 0 | AD14: =Z14-G14 -> 0 | AH14: =●計算表!P291 -> 0 | AL14: =AH14-K14 -> 0 | AP14: =(Z14*基礎情報!$Q$4)+AH14 -> 0
B15: 請求 | G15: =●計算表!D343 -> 0 | K15: =●計算表!D348 -> 0 | O15: =(G15*基礎情報!$Q$4)+K15 -> 0 | U15: 請求 | Z15: =●計算表!P343 -> 0 | AD15: =Z15-G15 -> 0 | AH15: =●計算表!P348 -> 0 | AL15: =AH15-K15 -> 0 | AP15: =(Z15*基礎情報!$Q$4)+AH15 -> 0
G17: 業務別の年間総コスト
G18: 作業時間 （時間面） | N18: 経費等 （コスト面） | T18: 総コスト 作業時間＋経費
B19: 購買見積依頼 | G19: =●計算表!D68 -> 0 | N19: =●計算表!D74 -> 0 | T19: =(G20*基礎情報!$Q$4)+N19 -> 0
G20: =●計算表!D68 -> 0
B21: 購買見積回答 | G21: =●計算表!D134 -> 0 | N21: =●計算表!D140 -> 0 | T21: =(G22*基礎情報!$Q$4)+N21 -> 0
G22: =●計算表!D134 -> 0
B23: 確定注文 | G23: =●計算表!D198 -> 300日0分 | N23: =●計算表!D200 -> 289440 | T23: =(G24*基礎情報!$Q$4)+N23 -> 7489440
G24: =●計算表!D194 -> 144000
B25: 注文請け | G25: =●計算表!D258 -> 15日0分 | N25: =●計算表!D260 -> 18720 | T25: =(G26*基礎情報!$Q$4)+N25 -> 378720
G26: =●計算表!D254 -> 7200
B27: 出来高折衝 | G27: =●計算表!D310 -> 0 | N27: =●計算表!D316 -> 0 | T27: =(G28*基礎情報!$Q$4)+N27 -> 0
G28: =●計算表!D310 -> 0
B29: 請求 | G29: =●計算表!D367 -> 0 | N29: =●計算表!D373 -> 0 | T29: =(G30*83)+N29 -> 0
G30: =●計算表!D367 -> 0
B31: 原本保管 | G31: =●計算表!D383 -> 180 | N31: =●計算表!D391 -> 120000 | T31: =(G32*83)+N31 -> 134940
G32: =●計算表!D383 -> 180
G33: =SUM(G20,G22,G24,G26,G28,G30,G32) -> 151380
G34: =INT(G33/60/基礎情報!J5) -> 315
G35: =INT((G33-G34*60*基礎情報!J5)/60) -> 3
G36: =MOD(G33,60) -> 0
B37: 合計 | G37: =IF(G34=0,"",G34&"日")&IF(G35=0,"",G35&"時間")&G36&"分" -> 315日3時間0分 | H37: =IF(H34=0,"",H34&"日")&IF(H35=0,"",H35&"時間")&H36&"分" -> 分 | I37: =IF(I34=0,"",I34&"日")&IF(I35=0,"",I35&"時間")&I36&"分" -> 分 | J37: =IF(J34=0,"",J34&"日")&IF(J35=0,"",J35&"時間")&J36&"分" -> 分 | K37: =IF(K34=0,"",K34&"日")&IF(K35=0,"",K35&"時間")&K36&"分" -> 分 | L37: =IF(L34=0,"",L34&"日")&IF(L35=0,"",L35&"時間")&L36&"分" -> 分 | M37: =IF(M34=0,"",M34&"日")&IF(M35=0,"",M35&"時間")&M36&"分" -> 分 | N37: =SUM(N19:N32) -> 428160 | T37: =SUM(T19:T32) -> 8003100

Sheet <参考>●総コスト算出WS
B3: 目標とする各業務の電子化率
E5: 導入年 | F5: 1年後 | G5: 2年後 | H5: 3年後 | I5: 4年後 | J5: 5年後 | K5: 6年後 | L5: 7年後 | M5: 8年後 | N5: 9年後 | O5: 10年後
D6: 0 | E6: 1 | F6: 2 | G6: 3 | H6: 4 | I6: 5 | J6: 6 | K6: 7 | L6: 8 | M6: 9 | N6: 10 | O6: 11 | AC6: 作業時間 | AD6: 経費 | AE6: 合計
E7: 0 | F7: 0 | G7: 31 | H7: 40 | I7: 50 | J7: 60 | K7: 60 | L7: 60 | M7: 60 | N7: 60 | O7: 60
E8: 0 | F8: 0 | G8: 0 | H8: 0 | I8: 0 | J8: 0 | K8: 0 | L8: 0 | M8: 0 | N8: 0 | O8: 0
B9: 購買・注文 | C9: 購買・注文 電子化率 | D9: 0 | E9: =E7/100 -> 0 | F9: =F7/100 -> 0 | G9: =G7/100 -> 0.31 | H9: =H7/100 -> 0.4 | I9: =I7/100 -> 0.5 | J9: =J7/100 -> 0.6 | K9: =K7/100 -> 0.6 | L9: =L7/100 -> 0.6 | ... O9: =O7/100 -> 0.6 | AB9: 見積依頼 | AC9: =●計算表!P73 -> 0 | AD9: =●計算表!P74 -> 0 | AE9: =AC9+AD9 -> 0
B10: 出来高・請求 | C10: 出来高・請求 電子化率 | D10: 0 | E10: =E8/100 -> 0 | F10: =F8/100 -> 0 | G10: =G8/100 -> 0 | H10: =H8/100 -> 0 | I10: =I8/100 -> 0 | J10: =J8/100 -> 0 | K10: =K8/100 -> 0 | L10: =L8/100 -> 0 | ... O10: =O8/100 -> 0 | AB10: 見積回答 | AC10: =●計算表!P139 -> 0 | AD10: =●計算表!P140 -> 0 | AE10: =AC10+AD10 -> 0
AB11: 確定注文 | AC11: =●計算表!P199 -> 5400000 | AD11: =●計算表!P200 -> 0 | AE11: =AC11+AD11 -> 5400000
B12: 購買見積依頼 | C12: 導入前年間費用 | D12: 0 | E12: ='<参考>●現在の業務の総コスト'!T19 -> 0 | F12: =E12 -> 0 | G12: =F12 -> 0 | H12: =G12 -> 0 | I12: =H12 -> 0 | J12: =I12 -> 0 | K12: =J12 -> 0 | L12: =K12 -> 0 | M12: =L12 -> 0 | ... O12: =N12 -> 0 | AB12: 注文請け | AC12: =●計算表!P259 -> 360000 | AD12: =●計算表!P260 -> 0 | AE12: =AC12+AD12 -> 360000
C13: 現状取引 | D13: 0 | E13: ='<参考>●現在の業務の総コスト'!$T$19*(1-E$9) -> 0 | F13: ='<参考>●現在の業務の総コスト'!$T$19*(1-F$9) -> 0 | G13: ='<参考>●現在の業務の総コスト'!$T$19*(1-G$9) -> 0 | H13: ='<参考>●現在の業務の総コスト'!$T$19*(1-H$9) -> 0 | I13: ='<参考>●現在の業務の総コスト'!$T$19*(1-I$9) -> 0 | J13: ='<参考>●現在の業務の総コスト'!$T$19*(1-J$9) -> 0 | K13: ='<参考>●現在の業務の総コスト'!$T$19*(1-K$9) -> 0 | L13: ='<参考>●現在の業務の総コスト'!$T$19*(1-L$9) -> 0 | ... O13: ='<参考>●現在の業務の総コスト'!$T$19*(1-O$9) -> 0 | AB13: 出来高折衝 | AC13: =●計算表!P315 -> 0 | AD13: =●計算表!P316 -> 0 | AE13: =AC13+AD13 -> 0
C14: 電子商取引 | D14: 0 | E14: =$AE$9*E$9 -> 0 | F14: =$AE$9*F$9 -> 0 | G14: =$AE$9*G$9 -> 0 | H14: =$AE$9*H$9 -> 0 | I14: =$AE$9*I$9 -> 0 | J14: =$AE$9*J$9 -> 0 | K14: =$AE$9*K$9 -> 0 | L14: =$AE$9*L$9 -> 0 | ... O14: =$AE$9*O$9 -> 0 | AB14: 請求 | AC14: =●計算表!P372 -> 0 | AD14: =●計算表!P373 -> 0 | AE14: =AC14+AD14 -> 0
C15: 電子化後年間費用 | D15: 0 | E15: =E13+E14 -> 0 | F15: =F13+F14 -> 0 | G15: =G13+G14 -> 0 | H15: =H13+H14 -> 0 | I15: =I13+I14 -> 0 | J15: =J13+J14 -> 0 | K15: =K13+K14 -> 0 | L15: =L13+L14 -> 0 | ... O15: =O13+O14 -> 0 | AB15: 原本保管 | AC15: =●計算表!P383 -> 0 | AD15: =●計算表!P391 -> 0 | AE15: =AC15+AD15 -> 0
B16: 購買見積回答・見積比較 | C16: 導入前年間費用 | D16: 0 | E16: ='<参考>●現在の業務の総コスト'!T21 -> 0 | F16: =E16 -> 0 | G16: =F16 -> 0 | H16: =G16 -> 0 | I16: =H16 -> 0 | J16: =I16 -> 0 | K16: =J16 -> 0 | L16: =K16 -> 0 | M16: =L16 -> 0 | ... O16: =N16 -> 0
C17: 現状取引 | D17: 0 | E17: ='<参考>●現在の業務の総コスト'!$T$21*(1-E$9) -> 0 | F17: ='<参考>●現在の業務の総コスト'!$T$21*(1-F$9) -> 0 | G17: ='<参考>●現在の業務の総コスト'!$T$21*(1-G$9) -> 0 | H17: ='<参考>●現在の業務の総コスト'!$T$21*(1-H$9) -> 0 | I17: ='<参考>●現在の業務の総コスト'!$T$21*(1-I$9) -> 0 | J17: ='<参考>●現在の業務の総コスト'!$T$21*(1-J$9) -> 0 | K17: ='<参考>●現在の業務の総コスト'!$T$21*(1-K$9) -> 0 | L17: ='<参考>●現在の業務の総コスト'!$T$21*(1-L$9) -> 0 | ... O17: ='<参考>●現在の業務の総コスト'!$T$21*(1-O$9) -> 0
C18: 電子商取引 | D18: 0 | E18: =$AE$10*E$9 -> 0 | F18: =$AE$10*F$9 -> 0 | G18: =$AE$10*G$9 -> 0 | H18: =$AE$10*H$9 -> 0 | I18: =$AE$10*I$9 -> 0 | J18: =$AE$10*J$9 -> 0 | K18: =$AE$10*K$9 -> 0 | L18: =$AE$10*L$9 -> 0 | ... O18: =$AE$10*O$9 -> 0
C19: 電子化後年間費用 | D19: 0 | E19: =E17+E18 -> 0 | F19: =F17+F18 -> 0 | G19: =G17+G18 -> 0 | H19: =H17+H18 -> 0 | I19: =I17+I18 -> 0 | J19: =J17+J18 -> 0 | K19: =K17+K18 -> 0 | L19: =L17+L18 -> 0 | ... O19: =O17+O18 -> 0
B20: 契約（注文書の発行） | C20: 導入前年間費用 | D20: 0 | E20: ='<参考>●現在の業務の総コスト'!T23 -> 7489440 | F20: =E20 -> 7489440 | G20: =F20 -> 7489440 | H20: =G20 -> 7489440 | I20: =H20 -> 7489440 | J20: =I20 -> 7489440 | K20: =J20 -> 7489440 | L20: =K20 -> 7489440 | M20: =L20 -> 7489440 | ... O20: =N20 -> 7489440
C21: 現状取引 | D21: 0 | E21: ='<参考>●現在の業務の総コスト'!$T$23*(1-E$9) -> 7489440 | F21: ='<参考>●現在の業務の総コスト'!$T$23*(1-F$9) -> 7489440 | G21: ='<参考>●現在の業務の総コスト'!$T$23*(1-G$9) -> 5167713.6 | H21: ='<参考>●現在の業務の総コスト'!$T$23*(1-H$9) -> 4493664 | I21: ='<参考>●現在の業務の総コスト'!$T$23*(1-I$9) -> 3744720 | J21: ='<参考>●現在の業務の総コスト'!$T$23*(1-J$9) -> 2995776 | K21: ='<参考>●現在の業務の総コスト'!$T$23*(1-K$9) -> 2995776 | L21: ='<参考>●現在の業務の総コスト'!$T$23*(1-L$9) -> 2995776 | ... O21: ='<参考>●現在の業務の総コスト'!$T$23*(1-O$9) -> 2995776
C22: 電子商取引 | D22: 0 | E22: =$AE$11*E$9 -> 0 | F22: =$AE$11*F$9 -> 0 | G22: =$AE$11*G$9 -> 1674000 | H22: =$AE$11*H$9 -> 2160000 | I22: =$AE$11*I$9 -> 2700000 | J22: =$AE$11*J$9 -> 3240000 | K22: =$AE$11*K$9 -> 3240000 | L22: =$AE$11*L$9 -> 3240000 | ... O22: =$AE$11*O$9 -> 3240000
C23: 電子化後年間費用 | D23: 0 | E23: =E21+E22 -> 7489440 | F23: =F21+F22 -> 7489440 | G23: =G21+G22 -> 6841713.6 | H23: =H21+H22 -> 6653664 | I23: =I21+I22 -> 6444720 | J23: =J21+J22 -> 6235776 | K23: =K21+K22 -> 6235776 | L23: =L21+L22 -> 6235776 | ... O23: =O21+O22 -> 6235776
B24: 契約（注文書の受け取り） | C24: 導入前年間費用 | D24: 0 | E24: ='<参考>●現在の業務の総コスト'!T25 -> 378720 | F24: =E24 -> 378720 | G24: =F24 -> 378720 | H24: =G24 -> 378720 | I24: =H24 -> 378720 | J24: =I24 -> 378720 | K24: =J24 -> 378720 | L24: =K24 -> 378720 | M24: =L24 -> 378720 | ... O24: =N24 -> 378720
C25: 現状取引 | D25: 0 | E25: ='<参考>●現在の業務の総コスト'!$T$25*(1-E$9) -> 378720 | F25: ='<参考>●現在の業務の総コスト'!$T$25*(1-F$9) -> 378720 | G25: ='<参考>●現在の業務の総コスト'!$T$25*(1-G$9) -> 261316.8 | H25: ='<参考>●現在の業務の総コスト'!$T$25*(1-H$9) -> 227232 | I25: ='<参考>●現在の業務の総コスト'!$T$25*(1-I$9) -> 189360 | J25: ='<参考>●現在の業務の総コスト'!$T$25*(1-J$9) -> 151488 | K25: ='<参考>●現在の業務の総コスト'!$T$25*(1-K$9) -> 151488 | L25: ='<参考>●現在の業務の総コスト'!$T$25*(1-L$9) -> 151488 | ... O25: ='<参考>●現在の業務の総コスト'!$T$25*(1-O$9) -> 151488
C26: 電子商取引 | D26: 0 | E26: =$AE$12*E$9 -> 0 | F26: =$AE$12*F$9 -> 0 | G26: =$AE$12*G$9 -> 111600 | H26: =$AE$12*H$9 -> 144000 | I26: =$AE$12*I$9 -> 180000 | J26: =$AE$12*J$9 -> 216000 | K26: =$AE$12*K$9 -> 216000 | L26: =$AE$12*L$9 -> 216000 | ... O26: =$AE$12*O$9 -> 216000
C27: 電子化後年間費用 | D27: 0 | E27: =E25+E26 -> 378720 | F27: =F25+F26 -> 378720 | G27: =G25+G26 -> 372916.8 | H27: =H25+H26 -> 371232 | I27: =I25+I26 -> 369360 | J27: =J25+J26 -> 367488 | K27: =K25+K26 -> 367488 | L27: =L25+L26 -> 367488 | ... O27: =O25+O26 -> 367488
B28: 出来高調書・出来高査定 | C28: 導入前年間費用 | D28: 0 | E28: ='<参考>●現在の業務の総コスト'!T27 -> 0 | F28: =E28 -> 0 | G28: =F28 -> 0 | H28: =G28 -> 0 | I28: =H28 -> 0 | J28: =I28 -> 0 | K28: =J28 -> 0 | L28: =K28 -> 0 | M28: =L28 -> 0 | ... O28: =N28 -> 0
C29: 現状取引 | D29: 0 | E29: ='<参考>●現在の業務の総コスト'!$T$27*(1-E$10) -> 0 | F29: ='<参考>●現在の業務の総コスト'!$T$27*(1-F$10) -> 0 | G29: ='<参考>●現在の業務の総コスト'!$T$27*(1-G$10) -> 0 | H29: ='<参考>●現在の業務の総コスト'!$T$27*(1-H$10) -> 0 | I29: ='<参考>●現在の業務の総コスト'!$T$27*(1-I$10) -> 0 | J29: ='<参考>●現在の業務の総コスト'!$T$27*(1-J$10) -> 0 | K29: ='<参考>●現在の業務の総コスト'!$T$27*(1-K$10) -> 0 | L29: ='<参考>●現在の業務の総コスト'!$T$27*(1-L$10) -> 0 | ... O29: ='<参考>●現在の業務の総コスト'!$T$27*(1-O$10) -> 0 | AC29: 導入年 | AF29: 1年後 | AI29: 2年後 | AL29: 3年後 | AO29: 4年後 | AR29: 5年後 | AU29: 6年後 | AX29: 7年後 | BA29: 8年後 | BD29: 9年後 | BG29: 10年後
C30: 電子商取引 | D30: 0 | E30: =$AE$13*E$10 -> 0 | F30: =$AE$13*F$10 -> 0 | G30: =$AE$13*G$10 -> 0 | H30: =$AE$13*H$10 -> 0 | I30: =$AE$13*I$10 -> 0 | J30: =$AE$13*J$10 -> 0 | K30: =$AE$13*K$10 -> 0 | L30: =$AE$13*L$10 -> 0 | ... O30: =$AE$13*O$10 -> 0 | AB30: 購買電子化率 | AC30: =E9 -> 0 | AD30: =NA() -> #N/A | AE30: =NA() -> #N/A | AF30: =F9 -> 0 | AG30: =NA() -> #N/A | AH30: =NA() -> #N/A | AI30: =G9 -> 0.31 | AJ30: =NA() -> #N/A | AK30: =NA() -> #N/A | AL30: =H9 -> 0.4 | AM30: =NA() -> #N/A | AN30: =NA() -> #N/A | AO30: =I9 -> 0.5 | AP30: =NA() -> #N/A | AQ30: =NA() -> #N/A | AR30: =J9 -> 0.6 | AS30: =NA() -> #N/A | AT30: =NA() -> #N/A | AU30: =K9 -> 0.6 | AV30: =NA() -> #N/A | AW30: =NA() -> #N/A | AX30: =L9 -> 0.6 | AY30: =NA() -> #N/A | AZ30: =NA() -> #N/A | BA30: =M9 -> 0.6 | BB30: =NA() -> #N/A | BC30: =NA() -> #N/A | BD30: =N9 -> 0.6 | BE30: =NA() -> #N/A | BF30: =NA() -> #N/A | BG30: =O9 -> 0.6 | BH30: =NA() -> #N/A | BI30: =NA() -> #N/A
C31: 電子化後年間費用 | D31: 0 | E31: =E29+E30 -> 0 | F31: =F29+F30 -> 0 | G31: =G29+G30 -> 0 | H31: =H29+H30 -> 0 | I31: =I29+I30 -> 0 | J31: =J29+J30 -> 0 | K31: =K29+K30 -> 0 | L31: =L29+L30 -> 0 | ... O31: =O29+O30 -> 0 | AB31: 出来高電子化率 | AC31: =E10 -> 0 | AD31: =NA() -> #N/A | AE31: =NA() -> #N/A | AF31: =F10 -> 0 | AG31: =NA() -> #N/A | AH31: =NA() -> #N/A | AI31: =G10 -> 0 | AJ31: =NA() -> #N/A | AK31: =NA() -> #N/A | AL31: =H10 -> 0 | AM31: =NA() -> #N/A | AN31: =NA() -> #N/A | AO31: =I10 -> 0 | AP31: =NA() -> #N/A | AQ31: =NA() -> #N/A | AR31: =J10 -> 0 | AS31: =NA() -> #N/A | AT31: =NA() -> #N/A | AU31: =K10 -> 0 | AV31: =NA() -> #N/A | AW31: =NA() -> #N/A | AX31: =L10 -> 0 | AY31: =NA() -> #N/A | AZ31: =NA() -> #N/A | BA31: =M10 -> 0 | BB31: =NA() -> #N/A | BC31: =NA() -> #N/A | BD31: =N10 -> 0 | BE31: =NA() -> #N/A | BF31: =NA() -> #N/A | BG31: =O10 -> 0 | BH31: =NA() -> #N/A | BI31: =NA() -> #N/A
B32: 請求 | C32: 導入前年間費用 | D32: 0 | E32: ='<参考>●現在の業務の総コスト'!T29 -> 0 | F32: =E32 -> 0 | G32: =F32 -> 0 | H32: =G32 -> 0 | I32: =H32 -> 0 | J32: =I32 -> 0 | K32: =J32 -> 0 | L32: =K32 -> 0 | M32: =L32 -> 0 | ... O32: =N32 -> 0 | AC32: =E12*●ｼﾐｭﾚｰｼｮﾝ結果!G$6 -> 0 | AF32: =F12*●ｼﾐｭﾚｰｼｮﾝ結果!H$6 -> 0 | AI32: =G12*●ｼﾐｭﾚｰｼｮﾝ結果!I$6 -> 0 | AL32: =H12*●ｼﾐｭﾚｰｼｮﾝ結果!J$6 -> 0 | AO32: =I12*●ｼﾐｭﾚｰｼｮﾝ結果!K$6 -> 0 | AR32: =J12*●ｼﾐｭﾚｰｼｮﾝ結果!L$6 -> 0 | AU32: =K12*●ｼﾐｭﾚｰｼｮﾝ結果!M$6 -> 0 | AX32: =L12*●ｼﾐｭﾚｰｼｮﾝ結果!N$6 -> 0 | BA32: =M12*●ｼﾐｭﾚｰｼｮﾝ結果!O$6 -> 0 | BD32: =N12*●ｼﾐｭﾚｰｼｮﾝ結果!P$6 -> 0 | BG32: =O12*●ｼﾐｭﾚｰｼｮﾝ結果!Q$6 -> 0
C33: 現状取引 | D33: 0 | E33: ='<参考>●現在の業務の総コスト'!$T$29*(1-E$10) -> 0 | F33: ='<参考>●現在の業務の総コスト'!$T$29*(1-F$10) -> 0 | G33: ='<参考>●現在の業務の総コスト'!$T$29*(1-G$10) -> 0 | H33: ='<参考>●現在の業務の総コスト'!$T$29*(1-H$10) -> 0 | I33: ='<参考>●現在の業務の総コスト'!$T$29*(1-I$10) -> 0 | J33: ='<参考>●現在の業務の総コスト'!$T$29*(1-J$10) -> 0 | K33: ='<参考>●現在の業務の総コスト'!$T$29*(1-K$10) -> 0 | L33: ='<参考>●現在の業務の総コスト'!$T$29*(1-L$10) -> 0 | ... O33: ='<参考>●現在の業務の総コスト'!$T$29*(1-O$10) -> 0 | AB33: =B12 -> 購買見積依頼 | AD33: =E15*●ｼﾐｭﾚｰｼｮﾝ結果!G$6 -> 0 | AG33: =F15*●ｼﾐｭﾚｰｼｮﾝ結果!H$6 -> 0 | AJ33: =G15*●ｼﾐｭﾚｰｼｮﾝ結果!I$6 -> 0 | AM33: =H15*●ｼﾐｭﾚｰｼｮﾝ結果!J$6 -> 0 | AP33: =I15*●ｼﾐｭﾚｰｼｮﾝ結果!K$6 -> 0 | AS33: =J15*●ｼﾐｭﾚｰｼｮﾝ結果!L$6 -> 0 | AV33: =K15*●ｼﾐｭﾚｰｼｮﾝ結果!M$6 -> 0 | AY33: =L15*●ｼﾐｭﾚｰｼｮﾝ結果!N$6 -> 0 | BB33: =M15*●ｼﾐｭﾚｰｼｮﾝ結果!O$6 -> 0 | BE33: =N15*●ｼﾐｭﾚｰｼｮﾝ結果!P$6 -> 0 | BH33: =O15*●ｼﾐｭﾚｰｼｮﾝ結果!Q$6 -> 0
C34: 電子商取引 | D34: 0 | E34: =$AE$14*E$10 -> 0 | F34: =$AE$14*F$10 -> 0 | G34: =$AE$14*G$10 -> 0 | H34: =$AE$14*H$10 -> 0 | I34: =$AE$14*I$10 -> 0 | J34: =$AE$14*J$10 -> 0 | K34: =$AE$14*K$10 -> 0 | L34: =$AE$14*L$10 -> 0 | ... O34: =$AE$14*O$10 -> 0 | AC34: =E16*●ｼﾐｭﾚｰｼｮﾝ結果!G$6 -> 0 | AF34: =F16*●ｼﾐｭﾚｰｼｮﾝ結果!H$6 -> 0 | AI34: =G16*●ｼﾐｭﾚｰｼｮﾝ結果!I$6 -> 0 | AL34: =H16*●ｼﾐｭﾚｰｼｮﾝ結果!J$6 -> 0 | AO34: =I16*●ｼﾐｭﾚｰｼｮﾝ結果!K$6 -> 0 | AR34: =J16*●ｼﾐｭﾚｰｼｮﾝ結果!L$6 -> 0 | AU34: =K16*●ｼﾐｭﾚｰｼｮﾝ結果!M$6 -> 0 | AX34: =L16*●ｼﾐｭﾚｰｼｮﾝ結果!N$6 -> 0 | BA34: =M16*●ｼﾐｭﾚｰｼｮﾝ結果!O$6 -> 0 | BD34: =N16*●ｼﾐｭﾚｰｼｮﾝ結果!P$6 -> 0 | BG34: =O16*●ｼﾐｭﾚｰｼｮﾝ結果!Q$6 -> 0
C35: 電子化後年間費用 | D35: 0 | E35: =E33+E34 -> 0 | F35: =F33+F34 -> 0 | G35: =G33+G34 -> 0 | H35: =H33+H34 -> 0 | I35: =I33+I34 -> 0 | J35: =J33+J34 -> 0 | K35: =K33+K34 -> 0 | L35: =L33+L34 -> 0 | ... O35: =O33+O34 -> 0 | AB35: =B16 -> 購買見積回答・見積比較 | AD35: =E19*●ｼﾐｭﾚｰｼｮﾝ結果!G$6 -> 0 | AG35: =F19*●ｼﾐｭﾚｰｼｮﾝ結果!H$6 -> 0 | AJ35: =G19*●ｼﾐｭﾚｰｼｮﾝ結果!I$6 -> 0 | AM35: =H19*●ｼﾐｭﾚｰｼｮﾝ結果!J$6 -> 0 | AP35: =I19*●ｼﾐｭﾚｰｼｮﾝ結果!K$6 -> 0 | AS35: =J19*●ｼﾐｭﾚｰｼｮﾝ結果!L$6 -> 0 | AV35: =K19*●ｼﾐｭﾚｰｼｮﾝ結果!M$6 -> 0 | AY35: =L19*●ｼﾐｭﾚｰｼｮﾝ結果!N$6 -> 0 | BB35: =M19*●ｼﾐｭﾚｰｼｮﾝ結果!O$6 -> 0 | BE35: =N19*●ｼﾐｭﾚｰｼｮﾝ結果!P$6 -> 0 | BH35: =O19*●ｼﾐｭﾚｰｼｮﾝ結果!Q$6 -> 0
B36: 原本保管 | C36: 導入前年間費用 | D36: 0 | E36: ='<参考>●現在の業務の総コスト'!T31 -> 134940 | F36: =E36 -> 134940 | G36: =F36 -> 134940 | H36: =G36 -> 134940 | I36: =H36 -> 134940 | J36: =I36 -> 134940 | K36: =J36 -> 134940 | L36: =K36 -> 134940 | M36: =L36 -> 134940 | ... O36: =N36 -> 134940 | AC36: =E20*●ｼﾐｭﾚｰｼｮﾝ結果!G$6 -> 7489440 | AF36: =F20*●ｼﾐｭﾚｰｼｮﾝ結果!H$6 -> 7489440 | AI36: =G20*●ｼﾐｭﾚｰｼｮﾝ結果!I$6 -> 7489440 | AL36: =H20*●ｼﾐｭﾚｰｼｮﾝ結果!J$6 -> 7489440 | AO36: =I20*●ｼﾐｭﾚｰｼｮﾝ結果!K$6 -> 7489440 | AR36: =J20*●ｼﾐｭﾚｰｼｮﾝ結果!L$6 -> 7489440 | AU36: =K20*●ｼﾐｭﾚｰｼｮﾝ結果!M$6 -> 7489440 | AX36: =L20*●ｼﾐｭﾚｰｼｮﾝ結果!N$6 -> 7489440 | BA36: =M20*●ｼﾐｭﾚｰｼｮﾝ結果!O$6 -> 7489440 | BD36: =N20*●ｼﾐｭﾚｰｼｮﾝ結果!P$6 -> 7489440 | BG36: =O20*●ｼﾐｭﾚｰｼｮﾝ結果!Q$6 -> 7489440
C37: 電子化後年間費用 | E37: ='<参考>●現在の業務の総コスト'!$T$31*(1-E$9) -> 134940 | F37: ='<参考>●現在の業務の総コスト'!$T$31*(1-F$9) -> 134940 | G37: ='<参考>●現在の業務の総コスト'!$T$31*(1-G$9) -> 93108.6 | H37: ='<参考>●現在の業務の総コスト'!$T$31*(1-H$9) -> 80964 | I37: ='<参考>●現在の業務の総コスト'!$T$31*(1-I$9) -> 67470 | J37: ='<参考>●現在の業務の総コスト'!$T$31*(1-J$9) -> 53976 | K37: ='<参考>●現在の業務の総コスト'!$T$31*(1-K$9) -> 53976 | L37: ='<参考>●現在の業務の総コスト'!$T$31*(1-L$9) -> 53976 | ... O37: ='<参考>●現在の業務の総コスト'!$T$31*(1-O$9) -> 53976 | AB37: =B20 -> 契約（注文書の発行） | AD37: =E23*●ｼﾐｭﾚｰｼｮﾝ結果!G$6 -> 7489440 | AG37: =F23*●ｼﾐｭﾚｰｼｮﾝ結果!H$6 -> 7489440 | AJ37: =G23*●ｼﾐｭﾚｰｼｮﾝ結果!I$6 -> 6841713.6 | AM37: =H23*●ｼﾐｭﾚｰｼｮﾝ結果!J$6 -> 6653664 | AP37: =I23*●ｼﾐｭﾚｰｼｮﾝ結果!K$6 -> 6444720 | AS37: =J23*●ｼﾐｭﾚｰｼｮﾝ結果!L$6 -> 6235776 | AV37: =K23*●ｼﾐｭﾚｰｼｮﾝ結果!M$6 -> 6235776 | AY37: =L23*●ｼﾐｭﾚｰｼｮﾝ結果!N$6 -> 6235776 | BB37: =M23*●ｼﾐｭﾚｰｼｮﾝ結果!O$6 -> 6235776 | BE37: =N23*●ｼﾐｭﾚｰｼｮﾝ結果!P$6 -> 6235776 | BH37: =O23*●ｼﾐｭﾚｰｼｮﾝ結果!Q$6 -> 6235776
AC38: =E24*●ｼﾐｭﾚｰｼｮﾝ結果!G$6 -> 378720 | AF38: =F24*●ｼﾐｭﾚｰｼｮﾝ結果!H$6 -> 378720 | AI38: =G24*●ｼﾐｭﾚｰｼｮﾝ結果!I$6 -> 378720 | AL38: =H24*●ｼﾐｭﾚｰｼｮﾝ結果!J$6 -> 378720 | AO38: =I24*●ｼﾐｭﾚｰｼｮﾝ結果!K$6 -> 378720 | AR38: =J24*●ｼﾐｭﾚｰｼｮﾝ結果!L$6 -> 378720 | AU38: =K24*●ｼﾐｭﾚｰｼｮﾝ結果!M$6 -> 378720 | AX38: =L24*●ｼﾐｭﾚｰｼｮﾝ結果!N$6 -> 378720 | BA38: =M24*●ｼﾐｭﾚｰｼｮﾝ結果!O$6 -> 378720 | BD38: =N24*●ｼﾐｭﾚｰｼｮﾝ結果!P$6 -> 378720 | BG38: =O24*●ｼﾐｭﾚｰｼｮﾝ結果!Q$6 -> 378720
B39: 全体（導入前） | C39: 導入前年間費用 | D39: 0 | E39: =SUMIF($C$12:$N$37,"導入前年間費用",E12:E37) -> 8003100 | F39: =SUMIF($C$12:$N$37,"導入前年間費用",F12:F37) -> 8003100 | G39: =SUMIF($C$12:$N$37,"導入前年間費用",G12:G37) -> 8003100 | H39: =SUMIF($C$12:$N$37,"導入前年間費用",H12:H37) -> 8003100 | I39: =SUMIF($C$12:$N$37,"導入前年間費用",I12:I37) -> 8003100 | J39: =SUMIF($C$12:$N$37,"導入前年間費用",J12:J37) -> 8003100 | K39: =SUMIF($C$12:$N$37,"導入前年間費用",K12:K37) -> 8003100 | L39: =SUMIF($C$12:$N$37,"導入前年間費用",L12:L37) -> 8003100 | ... O39: =SUMIF($C$12:$N$37,"導入前年間費用",O12:O37) -> 8003100 | AB39: =B24 -> 契約（注文書の受け取り） | AD39: =E27*●ｼﾐｭﾚｰｼｮﾝ結果!G$6 -> 378720 | AG39: =F27*●ｼﾐｭﾚｰｼｮﾝ結果!H$6 -> 378720 | AJ39: =G27*●ｼﾐｭﾚｰｼｮﾝ結果!I$6 -> 372916.8 | AM39: =H27*●ｼﾐｭﾚｰｼｮﾝ結果!J$6 -> 371232 | AP39: =I27*●ｼﾐｭﾚｰｼｮﾝ結果!K$6 -> 369360 | AS39: =J27*●ｼﾐｭﾚｰｼｮﾝ結果!L$6 -> 367488 | AV39: =K27*●ｼﾐｭﾚｰｼｮﾝ結果!M$6 -> 367488 | AY39: =L27*●ｼﾐｭﾚｰｼｮﾝ結果!N$6 -> 367488 | BB39: =M27*●ｼﾐｭﾚｰｼｮﾝ結果!O$6 -> 367488 | BE39: =N27*●ｼﾐｭﾚｰｼｮﾝ結果!P$6 -> 367488 | BH39: =O27*●ｼﾐｭﾚｰｼｮﾝ結果!Q$6 -> 367488
C40: 導入前累計費用 | D40: 0 | E40: =E39 -> 8003100 | F40: =E40+F39 -> 16006200 | G40: =F40+G39 -> 24009300 | H40: =G40+H39 -> 32012400 | I40: =H40+I39 -> 40015500 | J40: =I40+J39 -> 48018600 | K40: =J40+K39 -> 56021700 | L40: =K40+L39 -> 64024800 | M40: =L40+M39 -> 72027900 | ... O40: =N40+O39 -> 88034100 | AC40: =E28*●ｼﾐｭﾚｰｼｮﾝ結果!G$6 -> 0 | AF40: =F28*●ｼﾐｭﾚｰｼｮﾝ結果!H$6 -> 0 | AI40: =G28*●ｼﾐｭﾚｰｼｮﾝ結果!I$6 -> 0 | AL40: =H28*●ｼﾐｭﾚｰｼｮﾝ結果!J$6 -> 0 | AO40: =I28*●ｼﾐｭﾚｰｼｮﾝ結果!K$6 -> 0 | AR40: =J28*●ｼﾐｭﾚｰｼｮﾝ結果!L$6 -> 0 | AU40: =K28*●ｼﾐｭﾚｰｼｮﾝ結果!M$6 -> 0 | AX40: =L28*●ｼﾐｭﾚｰｼｮﾝ結果!N$6 -> 0 | BA40: =M28*●ｼﾐｭﾚｰｼｮﾝ結果!O$6 -> 0 | BD40: =N28*●ｼﾐｭﾚｰｼｮﾝ結果!P$6 -> 0 | BG40: =O28*●ｼﾐｭﾚｰｼｮﾝ結果!Q$6 -> 0
B41: 全体（導入後） | C41: 電子化後年間費用 | D41: 0 | E41: =SUMIF($C$12:$N$37,"電子化後年間費用",E12:E37) -> 8003100 | F41: =SUMIF($C$12:$N$37,"電子化後年間費用",F12:F37) -> 8003100 | G41: =SUMIF($C$12:$N$37,"電子化後年間費用",G12:G37) -> 7307739 | H41: =SUMIF($C$12:$N$37,"電子化後年間費用",H12:H37) -> 7105860 | I41: =SUMIF($C$12:$N$37,"電子化後年間費用",I12:I37) -> 6881550 | J41: =SUMIF($C$12:$N$37,"電子化後年間費用",J12:J37) -> 6657240 | K41: =SUMIF($C$12:$N$37,"電子化後年間費用",K12:K37) -> 6657240 | L41: =SUMIF($C$12:$N$37,"電子化後年間費用",L12:L37) -> 6657240 | ... O41: =SUMIF($C$12:$N$37,"電子化後年間費用",O12:O37) -> 6657240 | AB41: =B28 -> 出来高調書・出来高査定 | AD41: =E31*●ｼﾐｭﾚｰｼｮﾝ結果!G$6 -> 0 | AG41: =F31*●ｼﾐｭﾚｰｼｮﾝ結果!H$6 -> 0 | AJ41: =G31*●ｼﾐｭﾚｰｼｮﾝ結果!I$6 -> 0 | AM41: =H31*●ｼﾐｭﾚｰｼｮﾝ結果!J$6 -> 0 | AP41: =I31*●ｼﾐｭﾚｰｼｮﾝ結果!K$6 -> 0 | AS41: =J31*●ｼﾐｭﾚｰｼｮﾝ結果!L$6 -> 0 | AV41: =K31*●ｼﾐｭﾚｰｼｮﾝ結果!M$6 -> 0 | AY41: =L31*●ｼﾐｭﾚｰｼｮﾝ結果!N$6 -> 0 | BB41: =M31*●ｼﾐｭﾚｰｼｮﾝ結果!O$6 -> 0 | BE41: =N31*●ｼﾐｭﾚｰｼｮﾝ結果!P$6 -> 0 | BH41: =O31*●ｼﾐｭﾚｰｼｮﾝ結果!Q$6 -> 0
C42: 電子化後累計費用 | D42: 0 | E42: =E41 -> 8003100 | F42: =E42+F41 -> 16006200 | G42: =F42+G41 -> 23313939 | H42: =G42+H41 -> 30419799 | I42: =H42+I41 -> 37301349 | J42: =I42+J41 -> 43958589 | K42: =J42+K41 -> 50615829 | L42: =K42+L41 -> 57273069 | M42: =L42+M41 -> 63930309 | ... O42: =N42+O41 -> 77244789 | AC42: =E32*●ｼﾐｭﾚｰｼｮﾝ結果!G$6 -> 0 | AF42: =F32*●ｼﾐｭﾚｰｼｮﾝ結果!H$6 -> 0 | AI42: =G32*●ｼﾐｭﾚｰｼｮﾝ結果!I$6 -> 0 | AL42: =H32*●ｼﾐｭﾚｰｼｮﾝ結果!J$6 -> 0 | AO42: =I32*●ｼﾐｭﾚｰｼｮﾝ結果!K$6 -> 0 | AR42: =J32*●ｼﾐｭﾚｰｼｮﾝ結果!L$6 -> 0 | AU42: =K32*●ｼﾐｭﾚｰｼｮﾝ結果!M$6 -> 0 | AX42: =L32*●ｼﾐｭﾚｰｼｮﾝ結果!N$6 -> 0 | BA42: =M32*●ｼﾐｭﾚｰｼｮﾝ結果!O$6 -> 0 | BD42: =N32*●ｼﾐｭﾚｰｼｮﾝ結果!P$6 -> 0 | BG42: =O32*●ｼﾐｭﾚｰｼｮﾝ結果!Q$6 -> 0
B43: コストメリット | C43: 年間費用 | D43: 0 | E43: =E39-E41 -> 0 | F43: =F39-F41 -> 0 | G43: =G39-G41 -> 695361 | H43: =H39-H41 -> 897240 | I43: =I39-I41 -> 1121550 | J43: =J39-J41 -> 1345860 | K43: =K39-K41 -> 1345860 | L43: =L39-L41 -> 1345860 | ... O43: =O39-O41 -> 1345860 | AB43: =B32 -> 請求 | AD43: =E35*●ｼﾐｭﾚｰｼｮﾝ結果!G$6 -> 0 | AG43: =F35*●ｼﾐｭﾚｰｼｮﾝ結果!H$6 -> 0 | AJ43: =G35*●ｼﾐｭﾚｰｼｮﾝ結果!I$6 -> 0 | AM43: =H35*●ｼﾐｭﾚｰｼｮﾝ結果!J$6 -> 0 | AP43: =I35*●ｼﾐｭﾚｰｼｮﾝ結果!K$6 -> 0 | AS43: =J35*●ｼﾐｭﾚｰｼｮﾝ結果!L$6 -> 0 | AV43: =K35*●ｼﾐｭﾚｰｼｮﾝ結果!M$6 -> 0 | AY43: =L35*●ｼﾐｭﾚｰｼｮﾝ結果!N$6 -> 0 | BB43: =M35*●ｼﾐｭﾚｰｼｮﾝ結果!O$6 -> 0 | BE43: =N35*●ｼﾐｭﾚｰｼｮﾝ結果!P$6 -> 0 | BH43: =O35*●ｼﾐｭﾚｰｼｮﾝ結果!Q$6 -> 0
...

Sheet Sheet1
